BEGIN:VCALENDAR
VERSION:2.0
PRODID:-//Daytona Beach Racing - ECPv6.15.20//NONSGML v1.0//EN
CALSCALE:GREGORIAN
METHOD:PUBLISH
X-ORIGINAL-URL:https://www.daytonabeachpoker.com
X-WR-CALDESC:Events for Daytona Beach Racing
REFRESH-INTERVAL;VALUE=DURATION:PT1H
X-Robots-Tag:noindex
X-PUBLISHED-TTL:PT1H
BEGIN:VTIMEZONE
TZID:America/New_York
BEGIN:DAYLIGHT
TZOFFSETFROM:-0500
TZOFFSETTO:-0400
TZNAME:EDT
DTSTART:20250309T070000
END:DAYLIGHT
BEGIN:STANDARD
TZOFFSETFROM:-0400
TZOFFSETTO:-0500
TZNAME:EST
DTSTART:20251102T060000
END:STANDARD
BEGIN:DAYLIGHT
TZOFFSETFROM:-0500
TZOFFSETTO:-0400
TZNAME:EDT
DTSTART:20260308T070000
END:DAYLIGHT
BEGIN:STANDARD
TZOFFSETFROM:-0400
TZOFFSETTO:-0500
TZNAME:EST
DTSTART:20261101T060000
END:STANDARD
BEGIN:DAYLIGHT
TZOFFSETFROM:-0500
TZOFFSETTO:-0400
TZNAME:EDT
DTSTART:20270314T070000
END:DAYLIGHT
BEGIN:STANDARD
TZOFFSETFROM:-0400
TZOFFSETTO:-0500
TZNAME:EST
DTSTART:20271107T060000
END:STANDARD
END:VTIMEZONE
BEGIN:VEVENT
DTSTART;TZID=America/New_York:20260220T121000
DTEND;TZID=America/New_York:20260220T233000
DTSTAMP:20260424T115806
CREATED:20250620T181125Z
LAST-MODIFIED:20260420T145116Z
UID:10000715-1771589400-1771630200@www.daytonabeachpoker.com
SUMMARY:$115 GAPT Seniors 50+ Tournament
DESCRIPTION:Fridays* | 12:10pm\n*Excluding April 24\n\n\n$115 Buy-In\n15\,000 Units\n20-Minute Levels\n\nTournament Structure (pdf)
URL:https://www.daytonabeachpoker.com/event/115-gapt-seniors-50-tournament/2026-02-20/
CATEGORIES:Poker Tournament
ATTACH;FMTTYPE=image/jpeg:https://www.daytonabeachpoker.com/wp-content/uploads/2025/06/DB-115-Senior-Tournament-promo.jpg
END:VEVENT
BEGIN:VEVENT
DTSTART;TZID=America/New_York:20260220T151000
DTEND;TZID=America/New_York:20260220T233000
DTSTAMP:20260424T115806
CREATED:20260122T190420Z
LAST-MODIFIED:20260128T204406Z
UID:10000730-1771600200-1771630200@www.daytonabeachpoker.com
SUMMARY:Satellite Into $500 GAPT Championship
DESCRIPTION:Friday\, February 20th at 3:10pm | Saturday\, February 21st at 3:10pm\nSunday\, February 22nd at 3:10pm | Monday\, February 23rd at 3:10pm\nTuesday\, February 24th at 3:10pm | Wednesday\, February 25th at 3:10pm\nThursday\, February 26th at 3:10pm | Friday\, February 27th at 3:10pm \n\nVisit the $500 GAPT Championship \n\n$120 Buy-in\n15\,000 Units\nLevels – 15 minutes each\n\nTournament Structure (pdf)
URL:https://www.daytonabeachpoker.com/event/satellite-into-500-gapt-championship/2026-02-20/
CATEGORIES:Poker Tournament
ATTACH;FMTTYPE=image/jpeg:https://www.daytonabeachpoker.com/wp-content/uploads/2025/06/FL-SatelliteTournament-Promo.jpg
END:VEVENT
BEGIN:VEVENT
DTSTART;TZID=America/New_York:20260220T191000
DTEND;TZID=America/New_York:20260220T233000
DTSTAMP:20260424T115806
CREATED:20250620T183213Z
LAST-MODIFIED:20260420T145517Z
UID:10000720-1771614600-1771630200@www.daytonabeachpoker.com
SUMMARY:$165 GAPT “Friday Night Lights” Tournament
DESCRIPTION:Fridays* | 7:10pm\n*Excluding April 24\n\n\n$165 Buy-In\n25\,000 Units\n20 Minute Levels\n\nTournament Structure (pdf)
URL:https://www.daytonabeachpoker.com/event/165-gapt-friday-night-lights-tournament/2026-02-20/
CATEGORIES:Poker Tournament
ATTACH;FMTTYPE=image/jpeg:https://www.daytonabeachpoker.com/wp-content/uploads/2025/06/FridayNightLights-Promo.jpg
END:VEVENT
BEGIN:VEVENT
DTSTART;TZID=America/New_York:20260221T110000
DTEND;TZID=America/New_York:20260221T233000
DTSTAMP:20260424T115806
CREATED:20250619T205205Z
LAST-MODIFIED:20260420T134220Z
UID:10000850-1771671600-1771716600@www.daytonabeachpoker.com
SUMMARY:$500 Every 20 Minutes
DESCRIPTION:Fridays & Saturdays*\n*Excluding April 25 & May 1\, 9\, 15 & 23\n\n$500 Every 20 Minutes from 11am – Midnight \n$200 Every 30 Minutes from Midnight – 2am
URL:https://www.daytonabeachpoker.com/event/500-every-20-minutes/2026-02-21/
CATEGORIES:High Hand Promotion
ATTACH;FMTTYPE=image/jpeg:https://www.daytonabeachpoker.com/wp-content/uploads/2025/06/GDAY7155_HighHands_Web_300x250_July25_V1.jpg
END:VEVENT
BEGIN:VEVENT
DTSTART;TZID=America/New_York:20260221T121000
DTEND;TZID=America/New_York:20260221T233000
DTSTAMP:20260424T115806
CREATED:20250620T184839Z
LAST-MODIFIED:20260420T145809Z
UID:10000726-1771675800-1771716600@www.daytonabeachpoker.com
SUMMARY:$130 Deep Stack No Limit Hold'em
DESCRIPTION:Saturdays* | 12:10pm\n*Excluding April 25\n\n\n$130 Buy-in\n25\,000 Units\n20 Minute Levels\n\nTournament Structure (pdf)
URL:https://www.daytonabeachpoker.com/event/130-deep-stack-no-limit-holdem/2026-02-21/
CATEGORIES:Poker Tournament
ATTACH;FMTTYPE=image/jpeg:https://www.daytonabeachpoker.com/wp-content/uploads/2025/06/DB-NLHDeepStack-Promo.jpg
END:VEVENT
BEGIN:VEVENT
DTSTART;TZID=America/New_York:20260221T151000
DTEND;TZID=America/New_York:20260221T233000
DTSTAMP:20260424T115806
CREATED:20260122T190420Z
LAST-MODIFIED:20260128T204406Z
UID:10000731-1771686600-1771716600@www.daytonabeachpoker.com
SUMMARY:Satellite Into $500 GAPT Championship
DESCRIPTION:Friday\, February 20th at 3:10pm | Saturday\, February 21st at 3:10pm\nSunday\, February 22nd at 3:10pm | Monday\, February 23rd at 3:10pm\nTuesday\, February 24th at 3:10pm | Wednesday\, February 25th at 3:10pm\nThursday\, February 26th at 3:10pm | Friday\, February 27th at 3:10pm \n\nVisit the $500 GAPT Championship \n\n$120 Buy-in\n15\,000 Units\nLevels – 15 minutes each\n\nTournament Structure (pdf)
URL:https://www.daytonabeachpoker.com/event/satellite-into-500-gapt-championship/2026-02-21/
CATEGORIES:Poker Tournament
ATTACH;FMTTYPE=image/jpeg:https://www.daytonabeachpoker.com/wp-content/uploads/2025/06/FL-SatelliteTournament-Promo.jpg
END:VEVENT
BEGIN:VEVENT
DTSTART;TZID=America/New_York:20260221T191000
DTEND;TZID=America/New_York:20260221T233000
DTSTAMP:20260424T115806
CREATED:20250620T190046Z
LAST-MODIFIED:20260420T150003Z
UID:10000740-1771701000-1771716600@www.daytonabeachpoker.com
SUMMARY:$100 Double Board Bomb Pot
DESCRIPTION:Saturdays* | 7:10pm\n*Excluding April 25\n\n\n$100 Buy-in = $75 prize pool + $15 administrative fee + $10 staff gratuity\nOption 2: $100 Buy-in = $75 Prize pool + $25 administrative fee\n20\,000 Units\n20-Minute Levels\n\nTournament Structure (pdf)
URL:https://www.daytonabeachpoker.com/event/100-double-board-bomb-pot/2026-02-21/
CATEGORIES:Poker Tournament
ATTACH;FMTTYPE=image/jpeg:https://www.daytonabeachpoker.com/wp-content/uploads/2025/06/DB-DoubleBoardBombPot-Promo-1.jpg
END:VEVENT
BEGIN:VEVENT
DTSTART;TZID=America/New_York:20260222T110000
DTEND;TZID=America/New_York:20260222T220000
DTSTAMP:20260424T115806
CREATED:20250619T192431Z
LAST-MODIFIED:20260417T171535Z
UID:10000658-1771758000-1771797600@www.daytonabeachpoker.com
SUMMARY:$300 Every 20 Minutes
DESCRIPTION:Sundays | 11am – 10pm\n\nMake Sundays your favorite day of the week with our new High Hand promotion! Every 20 minutes from 11am-10pm\, you have a shot at winning $300 just by playing your favorite poker games. Don’t miss out on the excitement and the opportunity to boost your winnings!
URL:https://www.daytonabeachpoker.com/event/300-every-20-minutes/2026-02-22/
CATEGORIES:High Hand Promotion
ATTACH;FMTTYPE=image/jpeg:https://www.daytonabeachpoker.com/wp-content/uploads/2025/06/GDAY7411_300Every20_Web_300x250_June25_V1.jpg
END:VEVENT
BEGIN:VEVENT
DTSTART;TZID=America/New_York:20260222T121000
DTEND;TZID=America/New_York:20260222T233000
DTSTAMP:20260424T115806
CREATED:20251218T181301Z
LAST-MODIFIED:20260420T140302Z
UID:10000860-1771762200-1771803000@www.daytonabeachpoker.com
SUMMARY:$165 GAPT Road To The Championship Tournament
DESCRIPTION:May 3\, 10\, 17 & 24 | 12:10pm\n\nPart of the Great American Poker Tournaments! The Great American Poker Tournaments proudly acknowledges a Player of the Year by awarding points for tournament play in every “GAPT” sanctioned event. Players earn points based on place finished in a tournament. The Player of the Year will receive a trophy and tournament prize package. Please see Poker Room for full details and point structures. \n\n$165 Buy-in\n25\,000 Units\n20-Minute Levels\n\nTournament Structure (pdf)
URL:https://www.daytonabeachpoker.com/event/gapt-road-to-the-championship-tournament-2/2026-02-22/
CATEGORIES:Poker Tournament
ATTACH;FMTTYPE=image/jpeg:https://www.daytonabeachpoker.com/wp-content/uploads/2025/06/DB-GAPT-Road-to-Championship-promo.jpg
END:VEVENT
BEGIN:VEVENT
DTSTART;TZID=America/New_York:20260222T151000
DTEND;TZID=America/New_York:20260222T233000
DTSTAMP:20260424T115806
CREATED:20260122T190420Z
LAST-MODIFIED:20260128T204406Z
UID:10000732-1771773000-1771803000@www.daytonabeachpoker.com
SUMMARY:Satellite Into $500 GAPT Championship
DESCRIPTION:Friday\, February 20th at 3:10pm | Saturday\, February 21st at 3:10pm\nSunday\, February 22nd at 3:10pm | Monday\, February 23rd at 3:10pm\nTuesday\, February 24th at 3:10pm | Wednesday\, February 25th at 3:10pm\nThursday\, February 26th at 3:10pm | Friday\, February 27th at 3:10pm \n\nVisit the $500 GAPT Championship \n\n$120 Buy-in\n15\,000 Units\nLevels – 15 minutes each\n\nTournament Structure (pdf)
URL:https://www.daytonabeachpoker.com/event/satellite-into-500-gapt-championship/2026-02-22/
CATEGORIES:Poker Tournament
ATTACH;FMTTYPE=image/jpeg:https://www.daytonabeachpoker.com/wp-content/uploads/2025/06/FL-SatelliteTournament-Promo.jpg
END:VEVENT
BEGIN:VEVENT
DTSTART;TZID=America/New_York:20260223T110000
DTEND;TZID=America/New_York:20260223T220000
DTSTAMP:20260424T115806
CREATED:20250617T140811Z
LAST-MODIFIED:20260417T182044Z
UID:10000687-1771844400-1771884000@www.daytonabeachpoker.com
SUMMARY:$200 Every 20 Minutes
DESCRIPTION:Mondays* | 11am – 10pm\n*Excluding Memorial Day\n\nMake Mondays your favorite day of the week with our new High Hand promotion! \nEvery 20 minutes from 11am-10pm\, you have a shot at winning $200 just by playing your favorite poker games. Don’t miss out on the excitement and the opportunity to boost your winnings!
URL:https://www.daytonabeachpoker.com/event/200-every-20-minutes/2026-02-23/
CATEGORIES:High Hand Promotion
ATTACH;FMTTYPE=image/jpeg:https://www.daytonabeachpoker.com/wp-content/uploads/2025/06/FL-200Every20Mins-Promo.jpg
END:VEVENT
BEGIN:VEVENT
DTSTART;TZID=America/New_York:20260223T121000
DTEND;TZID=America/New_York:20260223T233000
DTSTAMP:20260424T115806
CREATED:20250620T163107Z
LAST-MODIFIED:20260420T142456Z
UID:10000695-1771848600-1771889400@www.daytonabeachpoker.com
SUMMARY:$80 Double Board Bomb Pot
DESCRIPTION:Mondays* | 12:10pm\n*Excluding April 20\n\n\n$80 Buy-in = $55 prize pool + $15 administrative fee + $10 staff gratuity\nOption 2: $80 Buy-in = $55 Prize pool + $25 administrative fee\n20\,000 Tournament Chips\n20 Minute Levels\n\nTournament Structure (pdf)
URL:https://www.daytonabeachpoker.com/event/80-double-board-bomb-pot/2026-02-23/
CATEGORIES:Poker Tournament
ATTACH;FMTTYPE=image/jpeg:https://www.daytonabeachpoker.com/wp-content/uploads/2025/06/DB-DoubleBoardBombPot-Promo.jpg
END:VEVENT
BEGIN:VEVENT
DTSTART;TZID=America/New_York:20260223T151000
DTEND;TZID=America/New_York:20260223T233000
DTSTAMP:20260424T115806
CREATED:20260122T190420Z
LAST-MODIFIED:20260128T204406Z
UID:10000733-1771859400-1771889400@www.daytonabeachpoker.com
SUMMARY:Satellite Into $500 GAPT Championship
DESCRIPTION:Friday\, February 20th at 3:10pm | Saturday\, February 21st at 3:10pm\nSunday\, February 22nd at 3:10pm | Monday\, February 23rd at 3:10pm\nTuesday\, February 24th at 3:10pm | Wednesday\, February 25th at 3:10pm\nThursday\, February 26th at 3:10pm | Friday\, February 27th at 3:10pm \n\nVisit the $500 GAPT Championship \n\n$120 Buy-in\n15\,000 Units\nLevels – 15 minutes each\n\nTournament Structure (pdf)
URL:https://www.daytonabeachpoker.com/event/satellite-into-500-gapt-championship/2026-02-23/
CATEGORIES:Poker Tournament
ATTACH;FMTTYPE=image/jpeg:https://www.daytonabeachpoker.com/wp-content/uploads/2025/06/FL-SatelliteTournament-Promo.jpg
END:VEVENT
BEGIN:VEVENT
DTSTART;TZID=America/New_York:20260224T110000
DTEND;TZID=America/New_York:20260224T220000
DTSTAMP:20260424T115806
CREATED:20250617T182817Z
LAST-MODIFIED:20260417T191223Z
UID:10000666-1771930800-1771970400@www.daytonabeachpoker.com
SUMMARY:Wheel or No Wheel
DESCRIPTION:Tuesdays & Thursdays | 11am – 10pm\n\nSeize the moment every 30 minutes\, as the winning high hand has the chance to pocket $300 in cash or take a spin on the wheel for even bigger winnings! \n 
URL:https://www.daytonabeachpoker.com/event/wheel-or-no-wheel/2026-02-24/
CATEGORIES:High Hand Promotion
ATTACH;FMTTYPE=image/jpeg:https://www.daytonabeachpoker.com/wp-content/uploads/2025/06/FL-WheelNoWheel-Promo.jpg
END:VEVENT
BEGIN:VEVENT
DTSTART;TZID=America/New_York:20260224T121000
DTEND;TZID=America/New_York:20260224T233000
DTSTAMP:20260424T115806
CREATED:20250620T163910Z
LAST-MODIFIED:20260420T142711Z
UID:10000699-1771935000-1771975800@www.daytonabeachpoker.com
SUMMARY:$100 Green Chip Bounty
DESCRIPTION:Tuesdays* | 12:10pm\n*Excluding April 21\n\n\n$100 Buy-in = $50 prize pool + $25 Bounty + $15 administrative fee + $10 staff gratuity\nOption 2: $100 Buy-in = $$50 Prize pool + $25 Bounty + $25 administrative fee. This is a Bounty event. Bounty is part of the prize pool\n15\,000 Tournament Chips\n20-Minute Levels\n\nTournament Structure (pdf)
URL:https://www.daytonabeachpoker.com/event/green-chip-bounty/2026-02-24/
CATEGORIES:Poker Tournament
ATTACH;FMTTYPE=image/jpeg:https://www.daytonabeachpoker.com/wp-content/uploads/2025/06/DB-GreenChipBounty-Promo.jpg
END:VEVENT
BEGIN:VEVENT
DTSTART;TZID=America/New_York:20260224T151000
DTEND;TZID=America/New_York:20260224T233000
DTSTAMP:20260424T115806
CREATED:20260122T190420Z
LAST-MODIFIED:20260128T204406Z
UID:10000734-1771945800-1771975800@www.daytonabeachpoker.com
SUMMARY:Satellite Into $500 GAPT Championship
DESCRIPTION:Friday\, February 20th at 3:10pm | Saturday\, February 21st at 3:10pm\nSunday\, February 22nd at 3:10pm | Monday\, February 23rd at 3:10pm\nTuesday\, February 24th at 3:10pm | Wednesday\, February 25th at 3:10pm\nThursday\, February 26th at 3:10pm | Friday\, February 27th at 3:10pm \n\nVisit the $500 GAPT Championship \n\n$120 Buy-in\n15\,000 Units\nLevels – 15 minutes each\n\nTournament Structure (pdf)
URL:https://www.daytonabeachpoker.com/event/satellite-into-500-gapt-championship/2026-02-24/
CATEGORIES:Poker Tournament
ATTACH;FMTTYPE=image/jpeg:https://www.daytonabeachpoker.com/wp-content/uploads/2025/06/FL-SatelliteTournament-Promo.jpg
END:VEVENT
BEGIN:VEVENT
DTSTART;TZID=America/New_York:20260225T110000
DTEND;TZID=America/New_York:20260225T220000
DTSTAMP:20260424T115806
CREATED:20250619T194719Z
LAST-MODIFIED:20260417T191534Z
UID:10000671-1772017200-1772056800@www.daytonabeachpoker.com
SUMMARY:$400 Every 20 Minutes
DESCRIPTION:Wednesdays | 11am – 10pm\n\nWin big with our high hand poker promotion\, where you could pocket $400 every 20 minutes! Don’t miss your chance to rake in the rewards while showcasing your poker skills.
URL:https://www.daytonabeachpoker.com/event/400-every-20-minutes/2026-02-25/
CATEGORIES:High Hand Promotion
ATTACH;FMTTYPE=image/jpeg:https://www.daytonabeachpoker.com/wp-content/uploads/2025/06/FL-400Every20Min-Promo.jpg
END:VEVENT
BEGIN:VEVENT
DTSTART;TZID=America/New_York:20260225T151000
DTEND;TZID=America/New_York:20260225T233000
DTSTAMP:20260424T115806
CREATED:20260122T190420Z
LAST-MODIFIED:20260128T204406Z
UID:10000735-1772032200-1772062200@www.daytonabeachpoker.com
SUMMARY:Satellite Into $500 GAPT Championship
DESCRIPTION:Friday\, February 20th at 3:10pm | Saturday\, February 21st at 3:10pm\nSunday\, February 22nd at 3:10pm | Monday\, February 23rd at 3:10pm\nTuesday\, February 24th at 3:10pm | Wednesday\, February 25th at 3:10pm\nThursday\, February 26th at 3:10pm | Friday\, February 27th at 3:10pm \n\nVisit the $500 GAPT Championship \n\n$120 Buy-in\n15\,000 Units\nLevels – 15 minutes each\n\nTournament Structure (pdf)
URL:https://www.daytonabeachpoker.com/event/satellite-into-500-gapt-championship/2026-02-25/
CATEGORIES:Poker Tournament
ATTACH;FMTTYPE=image/jpeg:https://www.daytonabeachpoker.com/wp-content/uploads/2025/06/FL-SatelliteTournament-Promo.jpg
END:VEVENT
BEGIN:VEVENT
DTSTART;TZID=America/New_York:20260225T191000
DTEND;TZID=America/New_York:20260225T233000
DTSTAMP:20260424T115806
CREATED:20250620T175900Z
LAST-MODIFIED:20260420T142849Z
UID:10000705-1772046600-1772062200@www.daytonabeachpoker.com
SUMMARY:$100 Double Stack Turbo
DESCRIPTION:Wednesdays* | 7:10pm\n*Excluding April 15 & 22\n\n\n$100 Buy-in = $75 prize pool + $15 administrative fee + $10 staff gratuity\nOption 2: $100 Buy-in = $75 Prize pool + $25 administrative fee.\n20\,000 Tournament Chips\n15-Minute Levels\n\nTournament Structure (pdf)
URL:https://www.daytonabeachpoker.com/event/100-double-stack-turbo/2026-02-25/
CATEGORIES:Poker Tournament
ATTACH;FMTTYPE=image/jpeg:https://www.daytonabeachpoker.com/wp-content/uploads/2025/06/DB-Double-Stack-Turbo-GAPT-promo.jpg
END:VEVENT
BEGIN:VEVENT
DTSTART;TZID=America/New_York:20260226T110000
DTEND;TZID=America/New_York:20260226T220000
DTSTAMP:20260424T115806
CREATED:20250617T182817Z
LAST-MODIFIED:20260417T191223Z
UID:10000667-1772103600-1772143200@www.daytonabeachpoker.com
SUMMARY:Wheel or No Wheel
DESCRIPTION:Tuesdays & Thursdays | 11am – 10pm\n\nSeize the moment every 30 minutes\, as the winning high hand has the chance to pocket $300 in cash or take a spin on the wheel for even bigger winnings! \n 
URL:https://www.daytonabeachpoker.com/event/wheel-or-no-wheel/2026-02-26/
CATEGORIES:High Hand Promotion
ATTACH;FMTTYPE=image/jpeg:https://www.daytonabeachpoker.com/wp-content/uploads/2025/06/FL-WheelNoWheel-Promo.jpg
END:VEVENT
BEGIN:VEVENT
DTSTART;TZID=America/New_York:20260226T121000
DTEND;TZID=America/New_York:20260226T233000
DTSTAMP:20260424T115806
CREATED:20250630T183221Z
LAST-MODIFIED:20260420T144941Z
UID:10000711-1772107800-1772148600@www.daytonabeachpoker.com
SUMMARY:$80 Crazy Pineapple
DESCRIPTION:Thursdays* | 12:10pm\n*Excluding April 23\n\n\n$80 Buy-in = $55 prize pool + $15 administrative fee + $10 staff gratuity\nOption 2: $80 Buy-in = $55 prize pool + $25 administrative fee\n15\,000 Units\n20-Minute Levels\n\nTournament Structure (pdf)
URL:https://www.daytonabeachpoker.com/event/80-crazy-pineapple/2026-02-26/
CATEGORIES:Poker Tournament
ATTACH;FMTTYPE=image/jpeg:https://www.daytonabeachpoker.com/wp-content/uploads/2025/06/GDAY7411_DB_CrazyPineapple_Web_300x250.jpg
END:VEVENT
BEGIN:VEVENT
DTSTART;TZID=America/New_York:20260226T151000
DTEND;TZID=America/New_York:20260226T233000
DTSTAMP:20260424T115806
CREATED:20260122T190420Z
LAST-MODIFIED:20260128T204406Z
UID:10000736-1772118600-1772148600@www.daytonabeachpoker.com
SUMMARY:Satellite Into $500 GAPT Championship
DESCRIPTION:Friday\, February 20th at 3:10pm | Saturday\, February 21st at 3:10pm\nSunday\, February 22nd at 3:10pm | Monday\, February 23rd at 3:10pm\nTuesday\, February 24th at 3:10pm | Wednesday\, February 25th at 3:10pm\nThursday\, February 26th at 3:10pm | Friday\, February 27th at 3:10pm \n\nVisit the $500 GAPT Championship \n\n$120 Buy-in\n15\,000 Units\nLevels – 15 minutes each\n\nTournament Structure (pdf)
URL:https://www.daytonabeachpoker.com/event/satellite-into-500-gapt-championship/2026-02-26/
CATEGORIES:Poker Tournament
ATTACH;FMTTYPE=image/jpeg:https://www.daytonabeachpoker.com/wp-content/uploads/2025/06/FL-SatelliteTournament-Promo.jpg
END:VEVENT
BEGIN:VEVENT
DTSTART;TZID=America/New_York:20260227T110000
DTEND;TZID=America/New_York:20260227T233000
DTSTAMP:20260424T115806
CREATED:20250619T205205Z
LAST-MODIFIED:20260420T134220Z
UID:10000851-1772190000-1772235000@www.daytonabeachpoker.com
SUMMARY:$500 Every 20 Minutes
DESCRIPTION:Fridays & Saturdays*\n*Excluding April 25 & May 1\, 9\, 15 & 23\n\n$500 Every 20 Minutes from 11am – Midnight \n$200 Every 30 Minutes from Midnight – 2am
URL:https://www.daytonabeachpoker.com/event/500-every-20-minutes/2026-02-27/
CATEGORIES:High Hand Promotion
ATTACH;FMTTYPE=image/jpeg:https://www.daytonabeachpoker.com/wp-content/uploads/2025/06/GDAY7155_HighHands_Web_300x250_July25_V1.jpg
END:VEVENT
BEGIN:VEVENT
DTSTART;TZID=America/New_York:20260227T121000
DTEND;TZID=America/New_York:20260227T233000
DTSTAMP:20260424T115806
CREATED:20250620T181125Z
LAST-MODIFIED:20260420T145116Z
UID:10000716-1772194200-1772235000@www.daytonabeachpoker.com
SUMMARY:$115 GAPT Seniors 50+ Tournament
DESCRIPTION:Fridays* | 12:10pm\n*Excluding April 24\n\n\n$115 Buy-In\n15\,000 Units\n20-Minute Levels\n\nTournament Structure (pdf)
URL:https://www.daytonabeachpoker.com/event/115-gapt-seniors-50-tournament/2026-02-27/
CATEGORIES:Poker Tournament
ATTACH;FMTTYPE=image/jpeg:https://www.daytonabeachpoker.com/wp-content/uploads/2025/06/DB-115-Senior-Tournament-promo.jpg
END:VEVENT
BEGIN:VEVENT
DTSTART;TZID=America/New_York:20260227T151000
DTEND;TZID=America/New_York:20260227T233000
DTSTAMP:20260424T115806
CREATED:20260122T190420Z
LAST-MODIFIED:20260128T204406Z
UID:10000737-1772205000-1772235000@www.daytonabeachpoker.com
SUMMARY:Satellite Into $500 GAPT Championship
DESCRIPTION:Friday\, February 20th at 3:10pm | Saturday\, February 21st at 3:10pm\nSunday\, February 22nd at 3:10pm | Monday\, February 23rd at 3:10pm\nTuesday\, February 24th at 3:10pm | Wednesday\, February 25th at 3:10pm\nThursday\, February 26th at 3:10pm | Friday\, February 27th at 3:10pm \n\nVisit the $500 GAPT Championship \n\n$120 Buy-in\n15\,000 Units\nLevels – 15 minutes each\n\nTournament Structure (pdf)
URL:https://www.daytonabeachpoker.com/event/satellite-into-500-gapt-championship/2026-02-27/
CATEGORIES:Poker Tournament
ATTACH;FMTTYPE=image/jpeg:https://www.daytonabeachpoker.com/wp-content/uploads/2025/06/FL-SatelliteTournament-Promo.jpg
END:VEVENT
BEGIN:VEVENT
DTSTART;TZID=America/New_York:20260227T191000
DTEND;TZID=America/New_York:20260227T233000
DTSTAMP:20260424T115806
CREATED:20250620T183213Z
LAST-MODIFIED:20260420T145517Z
UID:10000721-1772219400-1772235000@www.daytonabeachpoker.com
SUMMARY:$165 GAPT “Friday Night Lights” Tournament
DESCRIPTION:Fridays* | 7:10pm\n*Excluding April 24\n\n\n$165 Buy-In\n25\,000 Units\n20 Minute Levels\n\nTournament Structure (pdf)
URL:https://www.daytonabeachpoker.com/event/165-gapt-friday-night-lights-tournament/2026-02-27/
CATEGORIES:Poker Tournament
ATTACH;FMTTYPE=image/jpeg:https://www.daytonabeachpoker.com/wp-content/uploads/2025/06/FridayNightLights-Promo.jpg
END:VEVENT
BEGIN:VEVENT
DTSTART;TZID=America/New_York:20260228T110000
DTEND;TZID=America/New_York:20260228T233000
DTSTAMP:20260424T115806
CREATED:20250619T205205Z
LAST-MODIFIED:20260420T134220Z
UID:10000680-1772276400-1772321400@www.daytonabeachpoker.com
SUMMARY:$500 Every 20 Minutes
DESCRIPTION:Fridays & Saturdays*\n*Excluding April 25 & May 1\, 9\, 15 & 23\n\n$500 Every 20 Minutes from 11am – Midnight \n$200 Every 30 Minutes from Midnight – 2am
URL:https://www.daytonabeachpoker.com/event/500-every-20-minutes/2026-02-28/
CATEGORIES:High Hand Promotion
ATTACH;FMTTYPE=image/jpeg:https://www.daytonabeachpoker.com/wp-content/uploads/2025/06/GDAY7155_HighHands_Web_300x250_July25_V1.jpg
END:VEVENT
BEGIN:VEVENT
DTSTART;TZID=America/New_York:20260228T110000
DTEND;TZID=America/New_York:20260228T233000
DTSTAMP:20260424T115806
CREATED:20260123T202923Z
LAST-MODIFIED:20260128T204507Z
UID:10000741-1772276400-1772321400@www.daytonabeachpoker.com
SUMMARY:GAPT Championship Event
DESCRIPTION:Saturday\, February 28th at 11:10am \n\nVisit the Satellite into $500 GAPT Championship Event \n\n$500 Buy-in = $435 prize pool+ $50 administrative fee + $15 staff fees.\nOption 2: $500 Buy-in = $435 prize pool + $65 administrative fee.\n40\,000 Units\nLevels – 30 minutes each\n\nTournament Structure (pdf)
URL:https://www.daytonabeachpoker.com/event/gapt-championship-event/
CATEGORIES:Poker Tournament
ATTACH;FMTTYPE=image/jpeg:https://www.daytonabeachpoker.com/wp-content/uploads/2026/01/DN-2116_DB_100KGTDChampionship_Web_300x250.jpg
END:VEVENT
BEGIN:VEVENT
DTSTART;TZID=America/New_York:20260228T121000
DTEND;TZID=America/New_York:20260228T233000
DTSTAMP:20260424T115806
CREATED:20250620T184839Z
LAST-MODIFIED:20260420T145809Z
UID:10000894-1772280600-1772321400@www.daytonabeachpoker.com
SUMMARY:$130 Deep Stack No Limit Hold'em
DESCRIPTION:Saturdays* | 12:10pm\n*Excluding April 25\n\n\n$130 Buy-in\n25\,000 Units\n20 Minute Levels\n\nTournament Structure (pdf)
URL:https://www.daytonabeachpoker.com/event/130-deep-stack-no-limit-holdem/2026-02-28/
CATEGORIES:Poker Tournament
ATTACH;FMTTYPE=image/jpeg:https://www.daytonabeachpoker.com/wp-content/uploads/2025/06/DB-NLHDeepStack-Promo.jpg
END:VEVENT
BEGIN:VEVENT
DTSTART;TZID=America/New_York:20260228T191000
DTEND;TZID=America/New_York:20260228T233000
DTSTAMP:20260424T115806
CREATED:20250620T190046Z
LAST-MODIFIED:20260420T150003Z
UID:10000897-1772305800-1772321400@www.daytonabeachpoker.com
SUMMARY:$100 Double Board Bomb Pot
DESCRIPTION:Saturdays* | 7:10pm\n*Excluding April 25\n\n\n$100 Buy-in = $75 prize pool + $15 administrative fee + $10 staff gratuity\nOption 2: $100 Buy-in = $75 Prize pool + $25 administrative fee\n20\,000 Units\n20-Minute Levels\n\nTournament Structure (pdf)
URL:https://www.daytonabeachpoker.com/event/100-double-board-bomb-pot/2026-02-28/
CATEGORIES:Poker Tournament
ATTACH;FMTTYPE=image/jpeg:https://www.daytonabeachpoker.com/wp-content/uploads/2025/06/DB-DoubleBoardBombPot-Promo-1.jpg
END:VEVENT
END:VCALENDAR