BEGIN:VCALENDAR
VERSION:2.0
PRODID:-//Daytona Beach Racing - ECPv6.15.20//NONSGML v1.0//EN
CALSCALE:GREGORIAN
METHOD:PUBLISH
X-WR-CALNAME:Daytona Beach Racing
X-ORIGINAL-URL:https://www.daytonabeachpoker.com
X-WR-CALDESC:Events for Daytona Beach Racing
REFRESH-INTERVAL;VALUE=DURATION:PT1H
X-Robots-Tag:noindex
X-PUBLISHED-TTL:PT1H
BEGIN:VTIMEZONE
TZID:America/New_York
BEGIN:DAYLIGHT
TZOFFSETFROM:-0500
TZOFFSETTO:-0400
TZNAME:EDT
DTSTART:20250309T070000
END:DAYLIGHT
BEGIN:STANDARD
TZOFFSETFROM:-0400
TZOFFSETTO:-0500
TZNAME:EST
DTSTART:20251102T060000
END:STANDARD
BEGIN:DAYLIGHT
TZOFFSETFROM:-0500
TZOFFSETTO:-0400
TZNAME:EDT
DTSTART:20260308T070000
END:DAYLIGHT
BEGIN:STANDARD
TZOFFSETFROM:-0400
TZOFFSETTO:-0500
TZNAME:EST
DTSTART:20261101T060000
END:STANDARD
BEGIN:DAYLIGHT
TZOFFSETFROM:-0500
TZOFFSETTO:-0400
TZNAME:EDT
DTSTART:20270314T070000
END:DAYLIGHT
BEGIN:STANDARD
TZOFFSETFROM:-0400
TZOFFSETTO:-0500
TZNAME:EST
DTSTART:20271107T060000
END:STANDARD
END:VTIMEZONE
BEGIN:VEVENT
DTSTART;TZID=America/New_York:20260318T191000
DTEND;TZID=America/New_York:20260318T233000
DTSTAMP:20260424T045442
CREATED:20250620T175900Z
LAST-MODIFIED:20260420T142849Z
UID:10000792-1773861000-1773876600@www.daytonabeachpoker.com
SUMMARY:$100 Double Stack Turbo
DESCRIPTION:Wednesdays* | 7:10pm\n*Excluding April 15 & 22\n\n\n$100 Buy-in = $75 prize pool + $15 administrative fee + $10 staff gratuity\nOption 2: $100 Buy-in = $75 Prize pool + $25 administrative fee.\n20\,000 Tournament Chips\n15-Minute Levels\n\nTournament Structure (pdf)
URL:https://www.daytonabeachpoker.com/event/100-double-stack-turbo/2026-03-18/
CATEGORIES:Poker Tournament
ATTACH;FMTTYPE=image/jpeg:https://www.daytonabeachpoker.com/wp-content/uploads/2025/06/DB-Double-Stack-Turbo-GAPT-promo.jpg
END:VEVENT
BEGIN:VEVENT
DTSTART;TZID=America/New_York:20260318T151000
DTEND;TZID=America/New_York:20260318T233000
DTSTAMP:20260424T045442
CREATED:20250717T145317Z
LAST-MODIFIED:20260217T144259Z
UID:10000820-1773846600-1773876600@www.daytonabeachpoker.com
SUMMARY:Satellite Into $350 The Big 50s $70 Buy-in (Re-Entry) No Limit Hold’em
DESCRIPTION:Monday\, March 16th at 3:10pm\nTuesday\, March 17th at 3:10pm\nWednesday\, March 18th at 3:10pm\nThursday\, March 19th at 3:10pm\nFriday\, March 20th at 3:10pm\n\nVisit The Big 50s Main Event \n\n10\,000 Tournament Chips\n15 Minute Levels\n$70 Buy-in = $50 prize pool + $13 administrative fee + $7 staff gratuity. Option 2: $50 prize pool + $20 administrative fee.\n\nTournament Structure (pdf)
URL:https://www.daytonabeachpoker.com/event/satellite-into-the-big-50s/2026-03-18/
CATEGORIES:Poker Tournament
ATTACH;FMTTYPE=image/jpeg:https://www.daytonabeachpoker.com/wp-content/uploads/2025/06/FL-SatelliteTournament-Promo.jpg
END:VEVENT
BEGIN:VEVENT
DTSTART;TZID=America/New_York:20260318T110000
DTEND;TZID=America/New_York:20260318T220000
DTSTAMP:20260424T045442
CREATED:20250619T194719Z
LAST-MODIFIED:20260417T191534Z
UID:10000768-1773831600-1773871200@www.daytonabeachpoker.com
SUMMARY:$400 Every 20 Minutes
DESCRIPTION:Wednesdays | 11am – 10pm\n\nWin big with our high hand poker promotion\, where you could pocket $400 every 20 minutes! Don’t miss your chance to rake in the rewards while showcasing your poker skills.
URL:https://www.daytonabeachpoker.com/event/400-every-20-minutes/2026-03-18/
CATEGORIES:High Hand Promotion
ATTACH;FMTTYPE=image/jpeg:https://www.daytonabeachpoker.com/wp-content/uploads/2025/06/FL-400Every20Min-Promo.jpg
END:VEVENT
BEGIN:VEVENT
DTSTART;TZID=America/New_York:20260317T151000
DTEND;TZID=America/New_York:20260317T233000
DTSTAMP:20260424T045442
CREATED:20250717T145317Z
LAST-MODIFIED:20260217T144259Z
UID:10000819-1773760200-1773790200@www.daytonabeachpoker.com
SUMMARY:Satellite Into $350 The Big 50s $70 Buy-in (Re-Entry) No Limit Hold’em
DESCRIPTION:Monday\, March 16th at 3:10pm\nTuesday\, March 17th at 3:10pm\nWednesday\, March 18th at 3:10pm\nThursday\, March 19th at 3:10pm\nFriday\, March 20th at 3:10pm\n\nVisit The Big 50s Main Event \n\n10\,000 Tournament Chips\n15 Minute Levels\n$70 Buy-in = $50 prize pool + $13 administrative fee + $7 staff gratuity. Option 2: $50 prize pool + $20 administrative fee.\n\nTournament Structure (pdf)
URL:https://www.daytonabeachpoker.com/event/satellite-into-the-big-50s/2026-03-17/
CATEGORIES:Poker Tournament
ATTACH;FMTTYPE=image/jpeg:https://www.daytonabeachpoker.com/wp-content/uploads/2025/06/FL-SatelliteTournament-Promo.jpg
END:VEVENT
BEGIN:VEVENT
DTSTART;TZID=America/New_York:20260317T121000
DTEND;TZID=America/New_York:20260317T233000
DTSTAMP:20260424T045442
CREATED:20250620T163910Z
LAST-MODIFIED:20260420T142711Z
UID:10000869-1773749400-1773790200@www.daytonabeachpoker.com
SUMMARY:$100 Green Chip Bounty
DESCRIPTION:Tuesdays* | 12:10pm\n*Excluding April 21\n\n\n$100 Buy-in = $50 prize pool + $25 Bounty + $15 administrative fee + $10 staff gratuity\nOption 2: $100 Buy-in = $$50 Prize pool + $25 Bounty + $25 administrative fee. This is a Bounty event. Bounty is part of the prize pool\n15\,000 Tournament Chips\n20-Minute Levels\n\nTournament Structure (pdf)
URL:https://www.daytonabeachpoker.com/event/green-chip-bounty/2026-03-17/
CATEGORIES:Poker Tournament
ATTACH;FMTTYPE=image/jpeg:https://www.daytonabeachpoker.com/wp-content/uploads/2025/06/DB-GreenChipBounty-Promo.jpg
END:VEVENT
BEGIN:VEVENT
DTSTART;TZID=America/New_York:20260317T110000
DTEND;TZID=America/New_York:20260317T220000
DTSTAMP:20260424T045443
CREATED:20250617T182817Z
LAST-MODIFIED:20260417T191223Z
UID:10000761-1773745200-1773784800@www.daytonabeachpoker.com
SUMMARY:Wheel or No Wheel
DESCRIPTION:Tuesdays & Thursdays | 11am – 10pm\n\nSeize the moment every 30 minutes\, as the winning high hand has the chance to pocket $300 in cash or take a spin on the wheel for even bigger winnings! \n 
URL:https://www.daytonabeachpoker.com/event/wheel-or-no-wheel/2026-03-17/
CATEGORIES:High Hand Promotion
ATTACH;FMTTYPE=image/jpeg:https://www.daytonabeachpoker.com/wp-content/uploads/2025/06/FL-WheelNoWheel-Promo.jpg
END:VEVENT
BEGIN:VEVENT
DTSTART;TZID=America/New_York:20260317T100000
DTEND;TZID=America/New_York:20260317T220000
DTSTAMP:20260424T045443
CREATED:20260219T163822Z
LAST-MODIFIED:20260219T163822Z
UID:10000742-1773741600-1773784800@www.daytonabeachpoker.com
SUMMARY:Shamrock Flush Rush
DESCRIPTION:Tuesday\, March 17 | 10am – 10pm \n\nFeel the luck of the flush on the felt! \nTable a club flush using both of your hole cards and win $100 each time you hit it! \nOMAHA PLAYERS: Flop a club flush and you’ll grab the green\, too.
URL:https://www.daytonabeachpoker.com/event/shamrock-flush-rush/
CATEGORIES:Promotions
ATTACH;FMTTYPE=image/jpeg:https://www.daytonabeachpoker.com/wp-content/uploads/2026/02/DN-2115_GDBOC_ShamrockFlush_Web_300x250.jpg
END:VEVENT
BEGIN:VEVENT
DTSTART;TZID=America/New_York:20260316T151000
DTEND;TZID=America/New_York:20260316T233000
DTSTAMP:20260424T045443
CREATED:20250717T145317Z
LAST-MODIFIED:20260217T144259Z
UID:10000818-1773673800-1773703800@www.daytonabeachpoker.com
SUMMARY:Satellite Into $350 The Big 50s $70 Buy-in (Re-Entry) No Limit Hold’em
DESCRIPTION:Monday\, March 16th at 3:10pm\nTuesday\, March 17th at 3:10pm\nWednesday\, March 18th at 3:10pm\nThursday\, March 19th at 3:10pm\nFriday\, March 20th at 3:10pm\n\nVisit The Big 50s Main Event \n\n10\,000 Tournament Chips\n15 Minute Levels\n$70 Buy-in = $50 prize pool + $13 administrative fee + $7 staff gratuity. Option 2: $50 prize pool + $20 administrative fee.\n\nTournament Structure (pdf)
URL:https://www.daytonabeachpoker.com/event/satellite-into-the-big-50s/2026-03-16/
CATEGORIES:Poker Tournament
ATTACH;FMTTYPE=image/jpeg:https://www.daytonabeachpoker.com/wp-content/uploads/2025/06/FL-SatelliteTournament-Promo.jpg
END:VEVENT
BEGIN:VEVENT
DTSTART;TZID=America/New_York:20260316T121000
DTEND;TZID=America/New_York:20260316T233000
DTSTAMP:20260424T045443
CREATED:20250620T163107Z
LAST-MODIFIED:20260420T142456Z
UID:10000787-1773663000-1773703800@www.daytonabeachpoker.com
SUMMARY:$80 Double Board Bomb Pot
DESCRIPTION:Mondays* | 12:10pm\n*Excluding April 20\n\n\n$80 Buy-in = $55 prize pool + $15 administrative fee + $10 staff gratuity\nOption 2: $80 Buy-in = $55 Prize pool + $25 administrative fee\n20\,000 Tournament Chips\n20 Minute Levels\n\nTournament Structure (pdf)
URL:https://www.daytonabeachpoker.com/event/80-double-board-bomb-pot/2026-03-16/
CATEGORIES:Poker Tournament
ATTACH;FMTTYPE=image/jpeg:https://www.daytonabeachpoker.com/wp-content/uploads/2025/06/DB-DoubleBoardBombPot-Promo.jpg
END:VEVENT
BEGIN:VEVENT
DTSTART;TZID=America/New_York:20260316T110000
DTEND;TZID=America/New_York:20260316T220000
DTSTAMP:20260424T045443
CREATED:20250617T140811Z
LAST-MODIFIED:20260417T182044Z
UID:10000754-1773658800-1773698400@www.daytonabeachpoker.com
SUMMARY:$200 Every 20 Minutes
DESCRIPTION:Mondays* | 11am – 10pm\n*Excluding Memorial Day\n\nMake Mondays your favorite day of the week with our new High Hand promotion! \nEvery 20 minutes from 11am-10pm\, you have a shot at winning $200 just by playing your favorite poker games. Don’t miss out on the excitement and the opportunity to boost your winnings!
URL:https://www.daytonabeachpoker.com/event/200-every-20-minutes/2026-03-16/
CATEGORIES:High Hand Promotion
ATTACH;FMTTYPE=image/jpeg:https://www.daytonabeachpoker.com/wp-content/uploads/2025/06/FL-200Every20Mins-Promo.jpg
END:VEVENT
BEGIN:VEVENT
DTSTART;TZID=America/New_York:20260315T121000
DTEND;TZID=America/New_York:20260315T233000
DTSTAMP:20260424T045443
CREATED:20251218T181301Z
LAST-MODIFIED:20260420T140302Z
UID:10000996-1773576600-1773617400@www.daytonabeachpoker.com
SUMMARY:$165 GAPT Road To The Championship Tournament
DESCRIPTION:May 3\, 10\, 17 & 24 | 12:10pm\n\nPart of the Great American Poker Tournaments! The Great American Poker Tournaments proudly acknowledges a Player of the Year by awarding points for tournament play in every “GAPT” sanctioned event. Players earn points based on place finished in a tournament. The Player of the Year will receive a trophy and tournament prize package. Please see Poker Room for full details and point structures. \n\n$165 Buy-in\n25\,000 Units\n20-Minute Levels\n\nTournament Structure (pdf)
URL:https://www.daytonabeachpoker.com/event/gapt-road-to-the-championship-tournament-2/2026-03-15/
CATEGORIES:Poker Tournament
ATTACH;FMTTYPE=image/jpeg:https://www.daytonabeachpoker.com/wp-content/uploads/2025/06/DB-GAPT-Road-to-Championship-promo.jpg
END:VEVENT
BEGIN:VEVENT
DTSTART;TZID=America/New_York:20260315T110000
DTEND;TZID=America/New_York:20260315T220000
DTSTAMP:20260424T045443
CREATED:20250619T192431Z
LAST-MODIFIED:20260417T171535Z
UID:10000749-1773572400-1773612000@www.daytonabeachpoker.com
SUMMARY:$300 Every 20 Minutes
DESCRIPTION:Sundays | 11am – 10pm\n\nMake Sundays your favorite day of the week with our new High Hand promotion! Every 20 minutes from 11am-10pm\, you have a shot at winning $300 just by playing your favorite poker games. Don’t miss out on the excitement and the opportunity to boost your winnings!
URL:https://www.daytonabeachpoker.com/event/300-every-20-minutes/2026-03-15/
CATEGORIES:High Hand Promotion
ATTACH;FMTTYPE=image/jpeg:https://www.daytonabeachpoker.com/wp-content/uploads/2025/06/GDAY7411_300Every20_Web_300x250_June25_V1.jpg
END:VEVENT
BEGIN:VEVENT
DTSTART;TZID=America/New_York:20260314T191000
DTEND;TZID=America/New_York:20260314T233000
DTSTAMP:20260424T045443
CREATED:20250620T190046Z
LAST-MODIFIED:20260420T150003Z
UID:10000816-1773515400-1773531000@www.daytonabeachpoker.com
SUMMARY:$100 Double Board Bomb Pot
DESCRIPTION:Saturdays* | 7:10pm\n*Excluding April 25\n\n\n$100 Buy-in = $75 prize pool + $15 administrative fee + $10 staff gratuity\nOption 2: $100 Buy-in = $75 Prize pool + $25 administrative fee\n20\,000 Units\n20-Minute Levels\n\nTournament Structure (pdf)
URL:https://www.daytonabeachpoker.com/event/100-double-board-bomb-pot/2026-03-14/
CATEGORIES:Poker Tournament
ATTACH;FMTTYPE=image/jpeg:https://www.daytonabeachpoker.com/wp-content/uploads/2025/06/DB-DoubleBoardBombPot-Promo-1.jpg
END:VEVENT
BEGIN:VEVENT
DTSTART;TZID=America/New_York:20260314T121000
DTEND;TZID=America/New_York:20260314T233000
DTSTAMP:20260424T045443
CREATED:20250620T184839Z
LAST-MODIFIED:20260420T145809Z
UID:10000810-1773490200-1773531000@www.daytonabeachpoker.com
SUMMARY:$130 Deep Stack No Limit Hold'em
DESCRIPTION:Saturdays* | 12:10pm\n*Excluding April 25\n\n\n$130 Buy-in\n25\,000 Units\n20 Minute Levels\n\nTournament Structure (pdf)
URL:https://www.daytonabeachpoker.com/event/130-deep-stack-no-limit-holdem/2026-03-14/
CATEGORIES:Poker Tournament
ATTACH;FMTTYPE=image/jpeg:https://www.daytonabeachpoker.com/wp-content/uploads/2025/06/DB-NLHDeepStack-Promo.jpg
END:VEVENT
BEGIN:VEVENT
DTSTART;TZID=America/New_York:20260314T110000
DTEND;TZID=America/New_York:20260314T233000
DTSTAMP:20260424T045443
CREATED:20250619T205205Z
LAST-MODIFIED:20260420T134220Z
UID:10000980-1773486000-1773531000@www.daytonabeachpoker.com
SUMMARY:$500 Every 20 Minutes
DESCRIPTION:Fridays & Saturdays*\n*Excluding April 25 & May 1\, 9\, 15 & 23\n\n$500 Every 20 Minutes from 11am – Midnight \n$200 Every 30 Minutes from Midnight – 2am
URL:https://www.daytonabeachpoker.com/event/500-every-20-minutes/2026-03-14/
CATEGORIES:High Hand Promotion
ATTACH;FMTTYPE=image/jpeg:https://www.daytonabeachpoker.com/wp-content/uploads/2025/06/GDAY7155_HighHands_Web_300x250_July25_V1.jpg
END:VEVENT
BEGIN:VEVENT
DTSTART;TZID=America/New_York:20260313T191000
DTEND;TZID=America/New_York:20260313T233000
DTSTAMP:20260424T045443
CREATED:20250620T183213Z
LAST-MODIFIED:20260420T145517Z
UID:10000803-1773429000-1773444600@www.daytonabeachpoker.com
SUMMARY:$165 GAPT “Friday Night Lights” Tournament
DESCRIPTION:Fridays* | 7:10pm\n*Excluding April 24\n\n\n$165 Buy-In\n25\,000 Units\n20 Minute Levels\n\nTournament Structure (pdf)
URL:https://www.daytonabeachpoker.com/event/165-gapt-friday-night-lights-tournament/2026-03-13/
CATEGORIES:Poker Tournament
ATTACH;FMTTYPE=image/jpeg:https://www.daytonabeachpoker.com/wp-content/uploads/2025/06/FridayNightLights-Promo.jpg
END:VEVENT
BEGIN:VEVENT
DTSTART;TZID=America/New_York:20260313T121000
DTEND;TZID=America/New_York:20260313T233000
DTSTAMP:20260424T045443
CREATED:20250620T181125Z
LAST-MODIFIED:20260420T145116Z
UID:10000799-1773403800-1773444600@www.daytonabeachpoker.com
SUMMARY:$115 GAPT Seniors 50+ Tournament
DESCRIPTION:Fridays* | 12:10pm\n*Excluding April 24\n\n\n$115 Buy-In\n15\,000 Units\n20-Minute Levels\n\nTournament Structure (pdf)
URL:https://www.daytonabeachpoker.com/event/115-gapt-seniors-50-tournament/2026-03-13/
CATEGORIES:Poker Tournament
ATTACH;FMTTYPE=image/jpeg:https://www.daytonabeachpoker.com/wp-content/uploads/2025/06/DB-115-Senior-Tournament-promo.jpg
END:VEVENT
BEGIN:VEVENT
DTSTART;TZID=America/New_York:20260313T110000
DTEND;TZID=America/New_York:20260313T233000
DTSTAMP:20260424T045443
CREATED:20250619T205205Z
LAST-MODIFIED:20260420T134220Z
UID:10000774-1773399600-1773444600@www.daytonabeachpoker.com
SUMMARY:$500 Every 20 Minutes
DESCRIPTION:Fridays & Saturdays*\n*Excluding April 25 & May 1\, 9\, 15 & 23\n\n$500 Every 20 Minutes from 11am – Midnight \n$200 Every 30 Minutes from Midnight – 2am
URL:https://www.daytonabeachpoker.com/event/500-every-20-minutes/2026-03-13/
CATEGORIES:High Hand Promotion
ATTACH;FMTTYPE=image/jpeg:https://www.daytonabeachpoker.com/wp-content/uploads/2025/06/GDAY7155_HighHands_Web_300x250_July25_V1.jpg
END:VEVENT
BEGIN:VEVENT
DTSTART;TZID=America/New_York:20260312T121000
DTEND;TZID=America/New_York:20260312T233000
DTSTAMP:20260424T045443
CREATED:20250630T183221Z
LAST-MODIFIED:20260420T144941Z
UID:10000795-1773317400-1773358200@www.daytonabeachpoker.com
SUMMARY:$80 Crazy Pineapple
DESCRIPTION:Thursdays* | 12:10pm\n*Excluding April 23\n\n\n$80 Buy-in = $55 prize pool + $15 administrative fee + $10 staff gratuity\nOption 2: $80 Buy-in = $55 prize pool + $25 administrative fee\n15\,000 Units\n20-Minute Levels\n\nTournament Structure (pdf)
URL:https://www.daytonabeachpoker.com/event/80-crazy-pineapple/2026-03-12/
CATEGORIES:Poker Tournament
ATTACH;FMTTYPE=image/jpeg:https://www.daytonabeachpoker.com/wp-content/uploads/2025/06/GDAY7411_DB_CrazyPineapple_Web_300x250.jpg
END:VEVENT
BEGIN:VEVENT
DTSTART;TZID=America/New_York:20260312T110000
DTEND;TZID=America/New_York:20260312T220000
DTSTAMP:20260424T045443
CREATED:20250617T182817Z
LAST-MODIFIED:20260417T191223Z
UID:10000760-1773313200-1773352800@www.daytonabeachpoker.com
SUMMARY:Wheel or No Wheel
DESCRIPTION:Tuesdays & Thursdays | 11am – 10pm\n\nSeize the moment every 30 minutes\, as the winning high hand has the chance to pocket $300 in cash or take a spin on the wheel for even bigger winnings! \n 
URL:https://www.daytonabeachpoker.com/event/wheel-or-no-wheel/2026-03-12/
CATEGORIES:High Hand Promotion
ATTACH;FMTTYPE=image/jpeg:https://www.daytonabeachpoker.com/wp-content/uploads/2025/06/FL-WheelNoWheel-Promo.jpg
END:VEVENT
BEGIN:VEVENT
DTSTART;TZID=America/New_York:20260311T191000
DTEND;TZID=America/New_York:20260311T233000
DTSTAMP:20260424T045443
CREATED:20250620T175900Z
LAST-MODIFIED:20260420T142849Z
UID:10000791-1773256200-1773271800@www.daytonabeachpoker.com
SUMMARY:$100 Double Stack Turbo
DESCRIPTION:Wednesdays* | 7:10pm\n*Excluding April 15 & 22\n\n\n$100 Buy-in = $75 prize pool + $15 administrative fee + $10 staff gratuity\nOption 2: $100 Buy-in = $75 Prize pool + $25 administrative fee.\n20\,000 Tournament Chips\n15-Minute Levels\n\nTournament Structure (pdf)
URL:https://www.daytonabeachpoker.com/event/100-double-stack-turbo/2026-03-11/
CATEGORIES:Poker Tournament
ATTACH;FMTTYPE=image/jpeg:https://www.daytonabeachpoker.com/wp-content/uploads/2025/06/DB-Double-Stack-Turbo-GAPT-promo.jpg
END:VEVENT
BEGIN:VEVENT
DTSTART;TZID=America/New_York:20260311T110000
DTEND;TZID=America/New_York:20260311T220000
DTSTAMP:20260424T045443
CREATED:20250619T194719Z
LAST-MODIFIED:20260417T191534Z
UID:10000767-1773226800-1773266400@www.daytonabeachpoker.com
SUMMARY:$400 Every 20 Minutes
DESCRIPTION:Wednesdays | 11am – 10pm\n\nWin big with our high hand poker promotion\, where you could pocket $400 every 20 minutes! Don’t miss your chance to rake in the rewards while showcasing your poker skills.
URL:https://www.daytonabeachpoker.com/event/400-every-20-minutes/2026-03-11/
CATEGORIES:High Hand Promotion
ATTACH;FMTTYPE=image/jpeg:https://www.daytonabeachpoker.com/wp-content/uploads/2025/06/FL-400Every20Min-Promo.jpg
END:VEVENT
BEGIN:VEVENT
DTSTART;TZID=America/New_York:20260310T121000
DTEND;TZID=America/New_York:20260310T233000
DTSTAMP:20260424T045443
CREATED:20250620T163910Z
LAST-MODIFIED:20260420T142711Z
UID:10000868-1773144600-1773185400@www.daytonabeachpoker.com
SUMMARY:$100 Green Chip Bounty
DESCRIPTION:Tuesdays* | 12:10pm\n*Excluding April 21\n\n\n$100 Buy-in = $50 prize pool + $25 Bounty + $15 administrative fee + $10 staff gratuity\nOption 2: $100 Buy-in = $$50 Prize pool + $25 Bounty + $25 administrative fee. This is a Bounty event. Bounty is part of the prize pool\n15\,000 Tournament Chips\n20-Minute Levels\n\nTournament Structure (pdf)
URL:https://www.daytonabeachpoker.com/event/green-chip-bounty/2026-03-10/
CATEGORIES:Poker Tournament
ATTACH;FMTTYPE=image/jpeg:https://www.daytonabeachpoker.com/wp-content/uploads/2025/06/DB-GreenChipBounty-Promo.jpg
END:VEVENT
BEGIN:VEVENT
DTSTART;TZID=America/New_York:20260310T110000
DTEND;TZID=America/New_York:20260310T220000
DTSTAMP:20260424T045443
CREATED:20250617T182817Z
LAST-MODIFIED:20260417T191223Z
UID:10000759-1773140400-1773180000@www.daytonabeachpoker.com
SUMMARY:Wheel or No Wheel
DESCRIPTION:Tuesdays & Thursdays | 11am – 10pm\n\nSeize the moment every 30 minutes\, as the winning high hand has the chance to pocket $300 in cash or take a spin on the wheel for even bigger winnings! \n 
URL:https://www.daytonabeachpoker.com/event/wheel-or-no-wheel/2026-03-10/
CATEGORIES:High Hand Promotion
ATTACH;FMTTYPE=image/jpeg:https://www.daytonabeachpoker.com/wp-content/uploads/2025/06/FL-WheelNoWheel-Promo.jpg
END:VEVENT
BEGIN:VEVENT
DTSTART;TZID=America/New_York:20260309T121000
DTEND;TZID=America/New_York:20260309T233000
DTSTAMP:20260424T045443
CREATED:20250620T163107Z
LAST-MODIFIED:20260420T142456Z
UID:10000786-1773058200-1773099000@www.daytonabeachpoker.com
SUMMARY:$80 Double Board Bomb Pot
DESCRIPTION:Mondays* | 12:10pm\n*Excluding April 20\n\n\n$80 Buy-in = $55 prize pool + $15 administrative fee + $10 staff gratuity\nOption 2: $80 Buy-in = $55 Prize pool + $25 administrative fee\n20\,000 Tournament Chips\n20 Minute Levels\n\nTournament Structure (pdf)
URL:https://www.daytonabeachpoker.com/event/80-double-board-bomb-pot/2026-03-09/
CATEGORIES:Poker Tournament
ATTACH;FMTTYPE=image/jpeg:https://www.daytonabeachpoker.com/wp-content/uploads/2025/06/DB-DoubleBoardBombPot-Promo.jpg
END:VEVENT
BEGIN:VEVENT
DTSTART;TZID=America/New_York:20260309T110000
DTEND;TZID=America/New_York:20260309T220000
DTSTAMP:20260424T045443
CREATED:20250617T140811Z
LAST-MODIFIED:20260417T182044Z
UID:10000753-1773054000-1773093600@www.daytonabeachpoker.com
SUMMARY:$200 Every 20 Minutes
DESCRIPTION:Mondays* | 11am – 10pm\n*Excluding Memorial Day\n\nMake Mondays your favorite day of the week with our new High Hand promotion! \nEvery 20 minutes from 11am-10pm\, you have a shot at winning $200 just by playing your favorite poker games. Don’t miss out on the excitement and the opportunity to boost your winnings!
URL:https://www.daytonabeachpoker.com/event/200-every-20-minutes/2026-03-09/
CATEGORIES:High Hand Promotion
ATTACH;FMTTYPE=image/jpeg:https://www.daytonabeachpoker.com/wp-content/uploads/2025/06/FL-200Every20Mins-Promo.jpg
END:VEVENT
BEGIN:VEVENT
DTSTART;TZID=America/New_York:20260308T121000
DTEND;TZID=America/New_York:20260308T233000
DTSTAMP:20260424T045443
CREATED:20251218T181301Z
LAST-MODIFIED:20260420T140302Z
UID:10000782-1772971800-1773012600@www.daytonabeachpoker.com
SUMMARY:$165 GAPT Road To The Championship Tournament
DESCRIPTION:May 3\, 10\, 17 & 24 | 12:10pm\n\nPart of the Great American Poker Tournaments! The Great American Poker Tournaments proudly acknowledges a Player of the Year by awarding points for tournament play in every “GAPT” sanctioned event. Players earn points based on place finished in a tournament. The Player of the Year will receive a trophy and tournament prize package. Please see Poker Room for full details and point structures. \n\n$165 Buy-in\n25\,000 Units\n20-Minute Levels\n\nTournament Structure (pdf)
URL:https://www.daytonabeachpoker.com/event/gapt-road-to-the-championship-tournament-2/2026-03-08/
CATEGORIES:Poker Tournament
ATTACH;FMTTYPE=image/jpeg:https://www.daytonabeachpoker.com/wp-content/uploads/2025/06/DB-GAPT-Road-to-Championship-promo.jpg
END:VEVENT
BEGIN:VEVENT
DTSTART;TZID=America/New_York:20260308T110000
DTEND;TZID=America/New_York:20260308T220000
DTSTAMP:20260424T045443
CREATED:20250619T192431Z
LAST-MODIFIED:20260417T171535Z
UID:10000748-1772967600-1773007200@www.daytonabeachpoker.com
SUMMARY:$300 Every 20 Minutes
DESCRIPTION:Sundays | 11am – 10pm\n\nMake Sundays your favorite day of the week with our new High Hand promotion! Every 20 minutes from 11am-10pm\, you have a shot at winning $300 just by playing your favorite poker games. Don’t miss out on the excitement and the opportunity to boost your winnings!
URL:https://www.daytonabeachpoker.com/event/300-every-20-minutes/2026-03-08/
CATEGORIES:High Hand Promotion
ATTACH;FMTTYPE=image/jpeg:https://www.daytonabeachpoker.com/wp-content/uploads/2025/06/GDAY7411_300Every20_Web_300x250_June25_V1.jpg
END:VEVENT
BEGIN:VEVENT
DTSTART;TZID=America/New_York:20260307T191000
DTEND;TZID=America/New_York:20260307T233000
DTSTAMP:20260424T045443
CREATED:20250620T190046Z
LAST-MODIFIED:20260420T150003Z
UID:10000815-1772910600-1772926200@www.daytonabeachpoker.com
SUMMARY:$100 Double Board Bomb Pot
DESCRIPTION:Saturdays* | 7:10pm\n*Excluding April 25\n\n\n$100 Buy-in = $75 prize pool + $15 administrative fee + $10 staff gratuity\nOption 2: $100 Buy-in = $75 Prize pool + $25 administrative fee\n20\,000 Units\n20-Minute Levels\n\nTournament Structure (pdf)
URL:https://www.daytonabeachpoker.com/event/100-double-board-bomb-pot/2026-03-07/
CATEGORIES:Poker Tournament
ATTACH;FMTTYPE=image/jpeg:https://www.daytonabeachpoker.com/wp-content/uploads/2025/06/DB-DoubleBoardBombPot-Promo-1.jpg
END:VEVENT
BEGIN:VEVENT
DTSTART;TZID=America/New_York:20260307T121000
DTEND;TZID=America/New_York:20260307T233000
DTSTAMP:20260424T045443
CREATED:20250620T184839Z
LAST-MODIFIED:20260420T145809Z
UID:10000809-1772885400-1772926200@www.daytonabeachpoker.com
SUMMARY:$130 Deep Stack No Limit Hold'em
DESCRIPTION:Saturdays* | 12:10pm\n*Excluding April 25\n\n\n$130 Buy-in\n25\,000 Units\n20 Minute Levels\n\nTournament Structure (pdf)
URL:https://www.daytonabeachpoker.com/event/130-deep-stack-no-limit-holdem/2026-03-07/
CATEGORIES:Poker Tournament
ATTACH;FMTTYPE=image/jpeg:https://www.daytonabeachpoker.com/wp-content/uploads/2025/06/DB-NLHDeepStack-Promo.jpg
END:VEVENT
END:VCALENDAR