BEGIN:VCALENDAR
VERSION:2.0
PRODID:-//Daytona Beach Racing - ECPv6.15.20//NONSGML v1.0//EN
CALSCALE:GREGORIAN
METHOD:PUBLISH
X-WR-CALNAME:Daytona Beach Racing
X-ORIGINAL-URL:https://www.daytonabeachpoker.com
X-WR-CALDESC:Events for Daytona Beach Racing
REFRESH-INTERVAL;VALUE=DURATION:PT1H
X-Robots-Tag:noindex
X-PUBLISHED-TTL:PT1H
BEGIN:VTIMEZONE
TZID:America/New_York
BEGIN:DAYLIGHT
TZOFFSETFROM:-0500
TZOFFSETTO:-0400
TZNAME:EDT
DTSTART:20240310T070000
END:DAYLIGHT
BEGIN:STANDARD
TZOFFSETFROM:-0400
TZOFFSETTO:-0500
TZNAME:EST
DTSTART:20241103T060000
END:STANDARD
BEGIN:DAYLIGHT
TZOFFSETFROM:-0500
TZOFFSETTO:-0400
TZNAME:EDT
DTSTART:20250309T070000
END:DAYLIGHT
BEGIN:STANDARD
TZOFFSETFROM:-0400
TZOFFSETTO:-0500
TZNAME:EST
DTSTART:20251102T060000
END:STANDARD
BEGIN:DAYLIGHT
TZOFFSETFROM:-0500
TZOFFSETTO:-0400
TZNAME:EDT
DTSTART:20260308T070000
END:DAYLIGHT
BEGIN:STANDARD
TZOFFSETFROM:-0400
TZOFFSETTO:-0500
TZNAME:EST
DTSTART:20261101T060000
END:STANDARD
END:VTIMEZONE
BEGIN:VEVENT
DTSTART;TZID=America/New_York:20251029T110000
DTEND;TZID=America/New_York:20251029T220000
DTSTAMP:20260425T074204
CREATED:20250619T194719Z
LAST-MODIFIED:20260417T191534Z
UID:10000299-1761735600-1761775200@www.daytonabeachpoker.com
SUMMARY:$400 Every 20 Minutes
DESCRIPTION:Wednesdays | 11am – 10pm\n\nWin big with our high hand poker promotion\, where you could pocket $400 every 20 minutes! Don’t miss your chance to rake in the rewards while showcasing your poker skills.
URL:https://www.daytonabeachpoker.com/event/400-every-20-minutes/2025-10-29/
CATEGORIES:High Hand Promotion
ATTACH;FMTTYPE=image/jpeg:https://www.daytonabeachpoker.com/wp-content/uploads/2025/06/FL-400Every20Min-Promo.jpg
END:VEVENT
BEGIN:VEVENT
DTSTART;TZID=America/New_York:20251029T191000
DTEND;TZID=America/New_York:20251029T233000
DTSTAMP:20260425T074204
CREATED:20250620T175900Z
LAST-MODIFIED:20260420T142849Z
UID:10000337-1761765000-1761780600@www.daytonabeachpoker.com
SUMMARY:$100 Double Stack Turbo
DESCRIPTION:Wednesdays* | 7:10pm\n*Excluding April 15 & 22\n\n\n$100 Buy-in = $75 prize pool + $15 administrative fee + $10 staff gratuity\nOption 2: $100 Buy-in = $75 Prize pool + $25 administrative fee.\n20\,000 Tournament Chips\n15-Minute Levels\n\nTournament Structure (pdf)
URL:https://www.daytonabeachpoker.com/event/100-double-stack-turbo/2025-10-29/
CATEGORIES:Poker Tournament
ATTACH;FMTTYPE=image/jpeg:https://www.daytonabeachpoker.com/wp-content/uploads/2025/06/DB-Double-Stack-Turbo-GAPT-promo.jpg
END:VEVENT
BEGIN:VEVENT
DTSTART;TZID=America/New_York:20251030T110000
DTEND;TZID=America/New_York:20251030T220000
DTSTAMP:20260425T074204
CREATED:20250617T182817Z
LAST-MODIFIED:20260417T191223Z
UID:10000308-1761822000-1761861600@www.daytonabeachpoker.com
SUMMARY:Wheel or No Wheel
DESCRIPTION:Tuesdays & Thursdays | 11am – 10pm\n\nSeize the moment every 30 minutes\, as the winning high hand has the chance to pocket $300 in cash or take a spin on the wheel for even bigger winnings! \n 
URL:https://www.daytonabeachpoker.com/event/wheel-or-no-wheel/2025-10-30/
CATEGORIES:High Hand Promotion
ATTACH;FMTTYPE=image/jpeg:https://www.daytonabeachpoker.com/wp-content/uploads/2025/06/FL-WheelNoWheel-Promo.jpg
END:VEVENT
BEGIN:VEVENT
DTSTART;TZID=America/New_York:20251030T121000
DTEND;TZID=America/New_York:20251030T233000
DTSTAMP:20260425T074204
CREATED:20250630T183221Z
LAST-MODIFIED:20260420T144941Z
UID:10000332-1761826200-1761867000@www.daytonabeachpoker.com
SUMMARY:$80 Crazy Pineapple
DESCRIPTION:Thursdays* | 12:10pm\n*Excluding April 23\n\n\n$80 Buy-in = $55 prize pool + $15 administrative fee + $10 staff gratuity\nOption 2: $80 Buy-in = $55 prize pool + $25 administrative fee\n15\,000 Units\n20-Minute Levels\n\nTournament Structure (pdf)
URL:https://www.daytonabeachpoker.com/event/80-crazy-pineapple/2025-10-30/
CATEGORIES:Poker Tournament
ATTACH;FMTTYPE=image/jpeg:https://www.daytonabeachpoker.com/wp-content/uploads/2025/06/GDAY7411_DB_CrazyPineapple_Web_300x250.jpg
END:VEVENT
BEGIN:VEVENT
DTSTART;TZID=America/New_York:20251031T110000
DTEND;TZID=America/New_York:20251031T233000
DTSTAMP:20260425T074204
CREATED:20250619T205205Z
LAST-MODIFIED:20260420T134220Z
UID:10000323-1761908400-1761953400@www.daytonabeachpoker.com
SUMMARY:$500 Every 20 Minutes
DESCRIPTION:Fridays & Saturdays*\n*Excluding April 25 & May 1\, 9\, 15 & 23\n\n$500 Every 20 Minutes from 11am – Midnight \n$200 Every 30 Minutes from Midnight – 2am
URL:https://www.daytonabeachpoker.com/event/500-every-20-minutes/2025-10-31/
CATEGORIES:High Hand Promotion
ATTACH;FMTTYPE=image/jpeg:https://www.daytonabeachpoker.com/wp-content/uploads/2025/06/GDAY7155_HighHands_Web_300x250_July25_V1.jpg
END:VEVENT
BEGIN:VEVENT
DTSTART;TZID=America/New_York:20251031T121000
DTEND;TZID=America/New_York:20251031T233000
DTSTAMP:20260425T074204
CREATED:20250620T181125Z
LAST-MODIFIED:20260420T145116Z
UID:10000342-1761912600-1761953400@www.daytonabeachpoker.com
SUMMARY:$115 GAPT Seniors 50+ Tournament
DESCRIPTION:Fridays* | 12:10pm\n*Excluding April 24\n\n\n$115 Buy-In\n15\,000 Units\n20-Minute Levels\n\nTournament Structure (pdf)
URL:https://www.daytonabeachpoker.com/event/115-gapt-seniors-50-tournament/2025-10-31/
CATEGORIES:Poker Tournament
ATTACH;FMTTYPE=image/jpeg:https://www.daytonabeachpoker.com/wp-content/uploads/2025/06/DB-115-Senior-Tournament-promo.jpg
END:VEVENT
BEGIN:VEVENT
DTSTART;TZID=America/New_York:20251031T191000
DTEND;TZID=America/New_York:20251031T233000
DTSTAMP:20260425T074204
CREATED:20250620T183213Z
LAST-MODIFIED:20260420T145517Z
UID:10000347-1761937800-1761953400@www.daytonabeachpoker.com
SUMMARY:$165 GAPT “Friday Night Lights” Tournament
DESCRIPTION:Fridays* | 7:10pm\n*Excluding April 24\n\n\n$165 Buy-In\n25\,000 Units\n20 Minute Levels\n\nTournament Structure (pdf)
URL:https://www.daytonabeachpoker.com/event/165-gapt-friday-night-lights-tournament/2025-10-31/
CATEGORIES:Poker Tournament
ATTACH;FMTTYPE=image/jpeg:https://www.daytonabeachpoker.com/wp-content/uploads/2025/06/FridayNightLights-Promo.jpg
END:VEVENT
BEGIN:VEVENT
DTSTART;TZID=America/New_York:20251101T110000
DTEND;TZID=America/New_York:20251101T233000
DTSTAMP:20260425T074204
CREATED:20250619T205205Z
LAST-MODIFIED:20260420T134220Z
UID:10000403-1761994800-1762039800@www.daytonabeachpoker.com
SUMMARY:$500 Every 20 Minutes
DESCRIPTION:Fridays & Saturdays*\n*Excluding April 25 & May 1\, 9\, 15 & 23\n\n$500 Every 20 Minutes from 11am – Midnight \n$200 Every 30 Minutes from Midnight – 2am
URL:https://www.daytonabeachpoker.com/event/500-every-20-minutes/2025-11-01/
CATEGORIES:High Hand Promotion
ATTACH;FMTTYPE=image/jpeg:https://www.daytonabeachpoker.com/wp-content/uploads/2025/06/GDAY7155_HighHands_Web_300x250_July25_V1.jpg
END:VEVENT
BEGIN:VEVENT
DTSTART;TZID=America/New_York:20251101T121000
DTEND;TZID=America/New_York:20251101T233000
DTSTAMP:20260425T074204
CREATED:20250620T184839Z
LAST-MODIFIED:20260420T145809Z
UID:10000445-1761999000-1762039800@www.daytonabeachpoker.com
SUMMARY:$130 Deep Stack No Limit Hold'em
DESCRIPTION:Saturdays* | 12:10pm\n*Excluding April 25\n\n\n$130 Buy-in\n25\,000 Units\n20 Minute Levels\n\nTournament Structure (pdf)
URL:https://www.daytonabeachpoker.com/event/130-deep-stack-no-limit-holdem/2025-11-01/
CATEGORIES:Poker Tournament
ATTACH;FMTTYPE=image/jpeg:https://www.daytonabeachpoker.com/wp-content/uploads/2025/06/DB-NLHDeepStack-Promo.jpg
END:VEVENT
BEGIN:VEVENT
DTSTART;TZID=America/New_York:20251101T191000
DTEND;TZID=America/New_York:20251101T233000
DTSTAMP:20260425T074204
CREATED:20250620T190046Z
LAST-MODIFIED:20260420T150003Z
UID:10000441-1762024200-1762039800@www.daytonabeachpoker.com
SUMMARY:$100 Double Board Bomb Pot
DESCRIPTION:Saturdays* | 7:10pm\n*Excluding April 25\n\n\n$100 Buy-in = $75 prize pool + $15 administrative fee + $10 staff gratuity\nOption 2: $100 Buy-in = $75 Prize pool + $25 administrative fee\n20\,000 Units\n20-Minute Levels\n\nTournament Structure (pdf)
URL:https://www.daytonabeachpoker.com/event/100-double-board-bomb-pot/2025-11-01/
CATEGORIES:Poker Tournament
ATTACH;FMTTYPE=image/jpeg:https://www.daytonabeachpoker.com/wp-content/uploads/2025/06/DB-DoubleBoardBombPot-Promo-1.jpg
END:VEVENT
BEGIN:VEVENT
DTSTART;TZID=America/New_York:20251102T110000
DTEND;TZID=America/New_York:20251102T220000
DTSTAMP:20260425T074204
CREATED:20250619T192431Z
LAST-MODIFIED:20260417T171535Z
UID:10000395-1762081200-1762120800@www.daytonabeachpoker.com
SUMMARY:$300 Every 20 Minutes
DESCRIPTION:Sundays | 11am – 10pm\n\nMake Sundays your favorite day of the week with our new High Hand promotion! Every 20 minutes from 11am-10pm\, you have a shot at winning $300 just by playing your favorite poker games. Don’t miss out on the excitement and the opportunity to boost your winnings!
URL:https://www.daytonabeachpoker.com/event/300-every-20-minutes/2025-11-02/
CATEGORIES:High Hand Promotion
ATTACH;FMTTYPE=image/jpeg:https://www.daytonabeachpoker.com/wp-content/uploads/2025/06/GDAY7411_300Every20_Web_300x250_June25_V1.jpg
END:VEVENT
BEGIN:VEVENT
DTSTART;TZID=America/New_York:20251102T121000
DTEND;TZID=America/New_York:20251102T233000
DTSTAMP:20260425T074204
CREATED:20250618T192516Z
LAST-MODIFIED:20251212T185127Z
UID:10000412-1762085400-1762126200@www.daytonabeachpoker.com
SUMMARY:$165 GAPT Road To The Championship Tournament
DESCRIPTION:December 21\, 28 & January 11 & 18 | 12:10pm\n\nPart of the Great American Poker Tournaments! The Great American Poker Tournaments proudly acknowledges a Player of the Year by awarding points for tournament play in every “GAPT” sanctioned event. Players earn points based on place finished in a tournament. The Player of the Year will receive a trophy and tournament prize package. Please see Poker Room for full details and point structures. \n\n$165 Buy-in\n25\,000 Units\n20-Minute Levels\n\nTournament Structure (pdf)
URL:https://www.daytonabeachpoker.com/event/gapt-road-to-the-championship-tournament/2025-11-02/
CATEGORIES:Poker Tournament
ATTACH;FMTTYPE=image/jpeg:https://www.daytonabeachpoker.com/wp-content/uploads/2025/06/DB-GAPT-Road-to-Championship-promo.jpg
END:VEVENT
BEGIN:VEVENT
DTSTART;TZID=America/New_York:20251103T110000
DTEND;TZID=America/New_York:20251103T220000
DTSTAMP:20260425T074204
CREATED:20250617T140811Z
LAST-MODIFIED:20260417T182044Z
UID:10000554-1762167600-1762207200@www.daytonabeachpoker.com
SUMMARY:$200 Every 20 Minutes
DESCRIPTION:Mondays* | 11am – 10pm\n*Excluding Memorial Day\n\nMake Mondays your favorite day of the week with our new High Hand promotion! \nEvery 20 minutes from 11am-10pm\, you have a shot at winning $200 just by playing your favorite poker games. Don’t miss out on the excitement and the opportunity to boost your winnings!
URL:https://www.daytonabeachpoker.com/event/200-every-20-minutes/2025-11-03/
CATEGORIES:High Hand Promotion
ATTACH;FMTTYPE=image/jpeg:https://www.daytonabeachpoker.com/wp-content/uploads/2025/06/FL-200Every20Mins-Promo.jpg
END:VEVENT
BEGIN:VEVENT
DTSTART;TZID=America/New_York:20251103T121000
DTEND;TZID=America/New_York:20251103T233000
DTSTAMP:20260425T074204
CREATED:20250620T163107Z
LAST-MODIFIED:20260420T142456Z
UID:10000423-1762171800-1762212600@www.daytonabeachpoker.com
SUMMARY:$80 Double Board Bomb Pot
DESCRIPTION:Mondays* | 12:10pm\n*Excluding April 20\n\n\n$80 Buy-in = $55 prize pool + $15 administrative fee + $10 staff gratuity\nOption 2: $80 Buy-in = $55 Prize pool + $25 administrative fee\n20\,000 Tournament Chips\n20 Minute Levels\n\nTournament Structure (pdf)
URL:https://www.daytonabeachpoker.com/event/80-double-board-bomb-pot/2025-11-03/
CATEGORIES:Poker Tournament
ATTACH;FMTTYPE=image/jpeg:https://www.daytonabeachpoker.com/wp-content/uploads/2025/06/DB-DoubleBoardBombPot-Promo.jpg
END:VEVENT
BEGIN:VEVENT
DTSTART;TZID=America/New_York:20251104T110000
DTEND;TZID=America/New_York:20251104T220000
DTSTAMP:20260425T074204
CREATED:20250617T182817Z
LAST-MODIFIED:20260417T191223Z
UID:10000383-1762254000-1762293600@www.daytonabeachpoker.com
SUMMARY:Wheel or No Wheel
DESCRIPTION:Tuesdays & Thursdays | 11am – 10pm\n\nSeize the moment every 30 minutes\, as the winning high hand has the chance to pocket $300 in cash or take a spin on the wheel for even bigger winnings! \n 
URL:https://www.daytonabeachpoker.com/event/wheel-or-no-wheel/2025-11-04/
CATEGORIES:High Hand Promotion
ATTACH;FMTTYPE=image/jpeg:https://www.daytonabeachpoker.com/wp-content/uploads/2025/06/FL-WheelNoWheel-Promo.jpg
END:VEVENT
BEGIN:VEVENT
DTSTART;TZID=America/New_York:20251104T121000
DTEND;TZID=America/New_York:20251104T233000
DTSTAMP:20260425T074204
CREATED:20250620T163910Z
LAST-MODIFIED:20260420T142711Z
UID:10000416-1762258200-1762299000@www.daytonabeachpoker.com
SUMMARY:$100 Green Chip Bounty
DESCRIPTION:Tuesdays* | 12:10pm\n*Excluding April 21\n\n\n$100 Buy-in = $50 prize pool + $25 Bounty + $15 administrative fee + $10 staff gratuity\nOption 2: $100 Buy-in = $$50 Prize pool + $25 Bounty + $25 administrative fee. This is a Bounty event. Bounty is part of the prize pool\n15\,000 Tournament Chips\n20-Minute Levels\n\nTournament Structure (pdf)
URL:https://www.daytonabeachpoker.com/event/green-chip-bounty/2025-11-04/
CATEGORIES:Poker Tournament
ATTACH;FMTTYPE=image/jpeg:https://www.daytonabeachpoker.com/wp-content/uploads/2025/06/DB-GreenChipBounty-Promo.jpg
END:VEVENT
BEGIN:VEVENT
DTSTART;TZID=America/New_York:20251105T110000
DTEND;TZID=America/New_York:20251105T220000
DTSTAMP:20260425T074204
CREATED:20250619T194719Z
LAST-MODIFIED:20260417T191534Z
UID:10000391-1762340400-1762380000@www.daytonabeachpoker.com
SUMMARY:$400 Every 20 Minutes
DESCRIPTION:Wednesdays | 11am – 10pm\n\nWin big with our high hand poker promotion\, where you could pocket $400 every 20 minutes! Don’t miss your chance to rake in the rewards while showcasing your poker skills.
URL:https://www.daytonabeachpoker.com/event/400-every-20-minutes/2025-11-05/
CATEGORIES:High Hand Promotion
ATTACH;FMTTYPE=image/jpeg:https://www.daytonabeachpoker.com/wp-content/uploads/2025/06/FL-400Every20Min-Promo.jpg
END:VEVENT
BEGIN:VEVENT
DTSTART;TZID=America/New_York:20251105T191000
DTEND;TZID=America/New_York:20251105T233000
DTSTAMP:20260425T074204
CREATED:20250620T175900Z
LAST-MODIFIED:20260420T142849Z
UID:10000419-1762369800-1762385400@www.daytonabeachpoker.com
SUMMARY:$100 Double Stack Turbo
DESCRIPTION:Wednesdays* | 7:10pm\n*Excluding April 15 & 22\n\n\n$100 Buy-in = $75 prize pool + $15 administrative fee + $10 staff gratuity\nOption 2: $100 Buy-in = $75 Prize pool + $25 administrative fee.\n20\,000 Tournament Chips\n15-Minute Levels\n\nTournament Structure (pdf)
URL:https://www.daytonabeachpoker.com/event/100-double-stack-turbo/2025-11-05/
CATEGORIES:Poker Tournament
ATTACH;FMTTYPE=image/jpeg:https://www.daytonabeachpoker.com/wp-content/uploads/2025/06/DB-Double-Stack-Turbo-GAPT-promo.jpg
END:VEVENT
BEGIN:VEVENT
DTSTART;TZID=America/New_York:20251106T110000
DTEND;TZID=America/New_York:20251106T220000
DTSTAMP:20260425T074204
CREATED:20250617T182817Z
LAST-MODIFIED:20260417T191223Z
UID:10000384-1762426800-1762466400@www.daytonabeachpoker.com
SUMMARY:Wheel or No Wheel
DESCRIPTION:Tuesdays & Thursdays | 11am – 10pm\n\nSeize the moment every 30 minutes\, as the winning high hand has the chance to pocket $300 in cash or take a spin on the wheel for even bigger winnings! \n 
URL:https://www.daytonabeachpoker.com/event/wheel-or-no-wheel/2025-11-06/
CATEGORIES:High Hand Promotion
ATTACH;FMTTYPE=image/jpeg:https://www.daytonabeachpoker.com/wp-content/uploads/2025/06/FL-WheelNoWheel-Promo.jpg
END:VEVENT
BEGIN:VEVENT
DTSTART;TZID=America/New_York:20251106T121000
DTEND;TZID=America/New_York:20251106T233000
DTSTAMP:20260425T074204
CREATED:20250630T183221Z
LAST-MODIFIED:20260420T144941Z
UID:10000409-1762431000-1762471800@www.daytonabeachpoker.com
SUMMARY:$80 Crazy Pineapple
DESCRIPTION:Thursdays* | 12:10pm\n*Excluding April 23\n\n\n$80 Buy-in = $55 prize pool + $15 administrative fee + $10 staff gratuity\nOption 2: $80 Buy-in = $55 prize pool + $25 administrative fee\n15\,000 Units\n20-Minute Levels\n\nTournament Structure (pdf)
URL:https://www.daytonabeachpoker.com/event/80-crazy-pineapple/2025-11-06/
CATEGORIES:Poker Tournament
ATTACH;FMTTYPE=image/jpeg:https://www.daytonabeachpoker.com/wp-content/uploads/2025/06/GDAY7411_DB_CrazyPineapple_Web_300x250.jpg
END:VEVENT
BEGIN:VEVENT
DTSTART;TZID=America/New_York:20251107T110000
DTEND;TZID=America/New_York:20251107T233000
DTSTAMP:20260425T074204
CREATED:20250619T205205Z
LAST-MODIFIED:20260420T134220Z
UID:10000404-1762513200-1762558200@www.daytonabeachpoker.com
SUMMARY:$500 Every 20 Minutes
DESCRIPTION:Fridays & Saturdays*\n*Excluding April 25 & May 1\, 9\, 15 & 23\n\n$500 Every 20 Minutes from 11am – Midnight \n$200 Every 30 Minutes from Midnight – 2am
URL:https://www.daytonabeachpoker.com/event/500-every-20-minutes/2025-11-07/
CATEGORIES:High Hand Promotion
ATTACH;FMTTYPE=image/jpeg:https://www.daytonabeachpoker.com/wp-content/uploads/2025/06/GDAY7155_HighHands_Web_300x250_July25_V1.jpg
END:VEVENT
BEGIN:VEVENT
DTSTART;TZID=America/New_York:20251107T121000
DTEND;TZID=America/New_York:20251107T233000
DTSTAMP:20260425T074204
CREATED:20250620T181125Z
LAST-MODIFIED:20260420T145116Z
UID:10000429-1762517400-1762558200@www.daytonabeachpoker.com
SUMMARY:$115 GAPT Seniors 50+ Tournament
DESCRIPTION:Fridays* | 12:10pm\n*Excluding April 24\n\n\n$115 Buy-In\n15\,000 Units\n20-Minute Levels\n\nTournament Structure (pdf)
URL:https://www.daytonabeachpoker.com/event/115-gapt-seniors-50-tournament/2025-11-07/
CATEGORIES:Poker Tournament
ATTACH;FMTTYPE=image/jpeg:https://www.daytonabeachpoker.com/wp-content/uploads/2025/06/DB-115-Senior-Tournament-promo.jpg
END:VEVENT
BEGIN:VEVENT
DTSTART;TZID=America/New_York:20251107T191000
DTEND;TZID=America/New_York:20251107T233000
DTSTAMP:20260425T074204
CREATED:20250620T183213Z
LAST-MODIFIED:20260420T145517Z
UID:10000435-1762542600-1762558200@www.daytonabeachpoker.com
SUMMARY:$165 GAPT “Friday Night Lights” Tournament
DESCRIPTION:Fridays* | 7:10pm\n*Excluding April 24\n\n\n$165 Buy-In\n25\,000 Units\n20 Minute Levels\n\nTournament Structure (pdf)
URL:https://www.daytonabeachpoker.com/event/165-gapt-friday-night-lights-tournament/2025-11-07/
CATEGORIES:Poker Tournament
ATTACH;FMTTYPE=image/jpeg:https://www.daytonabeachpoker.com/wp-content/uploads/2025/06/FridayNightLights-Promo.jpg
END:VEVENT
BEGIN:VEVENT
DTSTART;TZID=America/New_York:20251108T110000
DTEND;TZID=America/New_York:20251108T233000
DTSTAMP:20260425T074204
CREATED:20250619T205205Z
LAST-MODIFIED:20260420T134220Z
UID:10000492-1762599600-1762644600@www.daytonabeachpoker.com
SUMMARY:$500 Every 20 Minutes
DESCRIPTION:Fridays & Saturdays*\n*Excluding April 25 & May 1\, 9\, 15 & 23\n\n$500 Every 20 Minutes from 11am – Midnight \n$200 Every 30 Minutes from Midnight – 2am
URL:https://www.daytonabeachpoker.com/event/500-every-20-minutes/2025-11-08/
CATEGORIES:High Hand Promotion
ATTACH;FMTTYPE=image/jpeg:https://www.daytonabeachpoker.com/wp-content/uploads/2025/06/GDAY7155_HighHands_Web_300x250_July25_V1.jpg
END:VEVENT
BEGIN:VEVENT
DTSTART;TZID=America/New_York:20251108T121000
DTEND;TZID=America/New_York:20251108T233000
DTSTAMP:20260425T074204
CREATED:20250620T184839Z
LAST-MODIFIED:20260420T145809Z
UID:10000446-1762603800-1762644600@www.daytonabeachpoker.com
SUMMARY:$130 Deep Stack No Limit Hold'em
DESCRIPTION:Saturdays* | 12:10pm\n*Excluding April 25\n\n\n$130 Buy-in\n25\,000 Units\n20 Minute Levels\n\nTournament Structure (pdf)
URL:https://www.daytonabeachpoker.com/event/130-deep-stack-no-limit-holdem/2025-11-08/
CATEGORIES:Poker Tournament
ATTACH;FMTTYPE=image/jpeg:https://www.daytonabeachpoker.com/wp-content/uploads/2025/06/DB-NLHDeepStack-Promo.jpg
END:VEVENT
BEGIN:VEVENT
DTSTART;TZID=America/New_York:20251108T191000
DTEND;TZID=America/New_York:20251108T233000
DTSTAMP:20260425T074204
CREATED:20250620T190046Z
LAST-MODIFIED:20260420T150003Z
UID:10000442-1762629000-1762644600@www.daytonabeachpoker.com
SUMMARY:$100 Double Board Bomb Pot
DESCRIPTION:Saturdays* | 7:10pm\n*Excluding April 25\n\n\n$100 Buy-in = $75 prize pool + $15 administrative fee + $10 staff gratuity\nOption 2: $100 Buy-in = $75 Prize pool + $25 administrative fee\n20\,000 Units\n20-Minute Levels\n\nTournament Structure (pdf)
URL:https://www.daytonabeachpoker.com/event/100-double-board-bomb-pot/2025-11-08/
CATEGORIES:Poker Tournament
ATTACH;FMTTYPE=image/jpeg:https://www.daytonabeachpoker.com/wp-content/uploads/2025/06/DB-DoubleBoardBombPot-Promo-1.jpg
END:VEVENT
BEGIN:VEVENT
DTSTART;TZID=America/New_York:20251109T110000
DTEND;TZID=America/New_York:20251109T220000
DTSTAMP:20260425T074204
CREATED:20250619T192431Z
LAST-MODIFIED:20260417T171535Z
UID:10000396-1762686000-1762725600@www.daytonabeachpoker.com
SUMMARY:$300 Every 20 Minutes
DESCRIPTION:Sundays | 11am – 10pm\n\nMake Sundays your favorite day of the week with our new High Hand promotion! Every 20 minutes from 11am-10pm\, you have a shot at winning $300 just by playing your favorite poker games. Don’t miss out on the excitement and the opportunity to boost your winnings!
URL:https://www.daytonabeachpoker.com/event/300-every-20-minutes/2025-11-09/
CATEGORIES:High Hand Promotion
ATTACH;FMTTYPE=image/jpeg:https://www.daytonabeachpoker.com/wp-content/uploads/2025/06/GDAY7411_300Every20_Web_300x250_June25_V1.jpg
END:VEVENT
BEGIN:VEVENT
DTSTART;TZID=America/New_York:20251109T121000
DTEND;TZID=America/New_York:20251109T233000
DTSTAMP:20260425T074204
CREATED:20250618T192516Z
LAST-MODIFIED:20251212T185127Z
UID:10000413-1762690200-1762731000@www.daytonabeachpoker.com
SUMMARY:$165 GAPT Road To The Championship Tournament
DESCRIPTION:December 21\, 28 & January 11 & 18 | 12:10pm\n\nPart of the Great American Poker Tournaments! The Great American Poker Tournaments proudly acknowledges a Player of the Year by awarding points for tournament play in every “GAPT” sanctioned event. Players earn points based on place finished in a tournament. The Player of the Year will receive a trophy and tournament prize package. Please see Poker Room for full details and point structures. \n\n$165 Buy-in\n25\,000 Units\n20-Minute Levels\n\nTournament Structure (pdf)
URL:https://www.daytonabeachpoker.com/event/gapt-road-to-the-championship-tournament/2025-11-09/
CATEGORIES:Poker Tournament
ATTACH;FMTTYPE=image/jpeg:https://www.daytonabeachpoker.com/wp-content/uploads/2025/06/DB-GAPT-Road-to-Championship-promo.jpg
END:VEVENT
BEGIN:VEVENT
DTSTART;TZID=America/New_York:20251110T110000
DTEND;TZID=America/New_York:20251110T220000
DTSTAMP:20260425T074204
CREATED:20250617T140811Z
LAST-MODIFIED:20260417T182044Z
UID:10000400-1762772400-1762812000@www.daytonabeachpoker.com
SUMMARY:$200 Every 20 Minutes
DESCRIPTION:Mondays* | 11am – 10pm\n*Excluding Memorial Day\n\nMake Mondays your favorite day of the week with our new High Hand promotion! \nEvery 20 minutes from 11am-10pm\, you have a shot at winning $200 just by playing your favorite poker games. Don’t miss out on the excitement and the opportunity to boost your winnings!
URL:https://www.daytonabeachpoker.com/event/200-every-20-minutes/2025-11-10/
CATEGORIES:High Hand Promotion
ATTACH;FMTTYPE=image/jpeg:https://www.daytonabeachpoker.com/wp-content/uploads/2025/06/FL-200Every20Mins-Promo.jpg
END:VEVENT
BEGIN:VEVENT
DTSTART;TZID=America/New_York:20251110T121000
DTEND;TZID=America/New_York:20251110T233000
DTSTAMP:20260425T074204
CREATED:20250620T163107Z
LAST-MODIFIED:20260420T142456Z
UID:10000424-1762776600-1762817400@www.daytonabeachpoker.com
SUMMARY:$80 Double Board Bomb Pot
DESCRIPTION:Mondays* | 12:10pm\n*Excluding April 20\n\n\n$80 Buy-in = $55 prize pool + $15 administrative fee + $10 staff gratuity\nOption 2: $80 Buy-in = $55 Prize pool + $25 administrative fee\n20\,000 Tournament Chips\n20 Minute Levels\n\nTournament Structure (pdf)
URL:https://www.daytonabeachpoker.com/event/80-double-board-bomb-pot/2025-11-10/
CATEGORIES:Poker Tournament
ATTACH;FMTTYPE=image/jpeg:https://www.daytonabeachpoker.com/wp-content/uploads/2025/06/DB-DoubleBoardBombPot-Promo.jpg
END:VEVENT
END:VCALENDAR