BEGIN:VCALENDAR
VERSION:2.0
PRODID:-//Daytona Beach Racing - ECPv6.15.20//NONSGML v1.0//EN
CALSCALE:GREGORIAN
METHOD:PUBLISH
X-WR-CALNAME:Daytona Beach Racing
X-ORIGINAL-URL:https://www.daytonabeachpoker.com
X-WR-CALDESC:Events for Daytona Beach Racing
REFRESH-INTERVAL;VALUE=DURATION:PT1H
X-Robots-Tag:noindex
X-PUBLISHED-TTL:PT1H
BEGIN:VTIMEZONE
TZID:America/New_York
BEGIN:DAYLIGHT
TZOFFSETFROM:-0500
TZOFFSETTO:-0400
TZNAME:EDT
DTSTART:20240310T070000
END:DAYLIGHT
BEGIN:STANDARD
TZOFFSETFROM:-0400
TZOFFSETTO:-0500
TZNAME:EST
DTSTART:20241103T060000
END:STANDARD
BEGIN:DAYLIGHT
TZOFFSETFROM:-0500
TZOFFSETTO:-0400
TZNAME:EDT
DTSTART:20250309T070000
END:DAYLIGHT
BEGIN:STANDARD
TZOFFSETFROM:-0400
TZOFFSETTO:-0500
TZNAME:EST
DTSTART:20251102T060000
END:STANDARD
BEGIN:DAYLIGHT
TZOFFSETFROM:-0500
TZOFFSETTO:-0400
TZNAME:EDT
DTSTART:20260308T070000
END:DAYLIGHT
BEGIN:STANDARD
TZOFFSETFROM:-0400
TZOFFSETTO:-0500
TZNAME:EST
DTSTART:20261101T060000
END:STANDARD
BEGIN:DAYLIGHT
TZOFFSETFROM:-0500
TZOFFSETTO:-0400
TZNAME:EDT
DTSTART:20270314T070000
END:DAYLIGHT
BEGIN:STANDARD
TZOFFSETFROM:-0400
TZOFFSETTO:-0500
TZNAME:EST
DTSTART:20271107T060000
END:STANDARD
END:VTIMEZONE
BEGIN:VEVENT
DTSTART;VALUE=DATE:20250728
DTEND;VALUE=DATE:20260501
DTSTAMP:20260424T062348
CREATED:20250728T195218Z
LAST-MODIFIED:20260413T155911Z
UID:10000181-1753660800-1777593599@www.daytonabeachpoker.com
SUMMARY:Bad Moon Rising Bad Beat Jackpot
DESCRIPTION:Daily\n\n  \nJackpot Amount as of 4/13 | $32\,000 \nQualifying Hand – 2222\n  \n\nWhen our daily promotions wrap up\, the excitement continues — qualifying hands drop\, and payouts rise weekly! \nRules & Regulations (pdf)
URL:https://www.daytonabeachpoker.com/event/bad-moon-rising-bad-beat-jackpot/
CATEGORIES:High Hand Promotion
ATTACH;FMTTYPE=image/jpeg:https://www.daytonabeachpoker.com/wp-content/uploads/2025/07/DBOC-BadMoon-Promo.jpg
END:VEVENT
BEGIN:VEVENT
DTSTART;VALUE=DATE:20260102
DTEND;VALUE=DATE:20260201
DTSTAMP:20260424T062348
CREATED:20260102T162716Z
LAST-MODIFIED:20260102T162716Z
UID:10000644-1767312000-1769903999@www.daytonabeachpoker.com
SUMMARY:$150 Lucky North® Rewards New Member Bonus
DESCRIPTION:It pays to be a member of Lucky North® Rewards at Daytona Beach right away\, especially with our exclusive New Member Bonus. When you join Lucky North® Rewards and earn 1\,000 points within your first 30 days\, you’ll receive $50. Plus\, new members qualify for our Monthly New Member Drawing. Each month\, five members win $100. \nLucky North® Rewards is free to join — what are you waiting for?
URL:https://www.daytonabeachpoker.com/event/150-lucky-north-rewards-new-member-bonus/
CATEGORIES:High Hand Promotion
ATTACH;FMTTYPE=image/jpeg:https://www.daytonabeachpoker.com/wp-content/uploads/2026/01/DN-963_DBOC_LNR_NewMem_Web_300x250_Dec25_V1.jpg
END:VEVENT
BEGIN:VEVENT
DTSTART;VALUE=DATE:20260113
DTEND;VALUE=DATE:20260201
DTSTAMP:20260424T062348
CREATED:20260113T135018Z
LAST-MODIFIED:20260113T135018Z
UID:10000653-1768262400-1769903999@www.daytonabeachpoker.com
SUMMARY:Mississippi Stud - Now Dealing!
DESCRIPTION:Get ready for Mississippi Stud — the newest way to play in our pit. Join the table and test your luck in this poker-style game where you have a chance to bet and win BIG with your best hands. \nClick Here To Learn More
URL:https://www.daytonabeachpoker.com/event/mississippi-stud-now-dealing/
CATEGORIES:High Hand Promotion,Promotions
ATTACH;FMTTYPE=image/jpeg:https://www.daytonabeachpoker.com/wp-content/uploads/2026/01/DN-DBOC_MississippiStud_Web_300x250.jpg
END:VEVENT
BEGIN:VEVENT
DTSTART;TZID=America/New_York:20260121T110000
DTEND;TZID=America/New_York:20260121T220000
DTSTAMP:20260424T062348
CREATED:20250619T194719Z
LAST-MODIFIED:20260417T191534Z
UID:10000569-1768993200-1769032800@www.daytonabeachpoker.com
SUMMARY:$400 Every 20 Minutes
DESCRIPTION:Wednesdays | 11am – 10pm\n\nWin big with our high hand poker promotion\, where you could pocket $400 every 20 minutes! Don’t miss your chance to rake in the rewards while showcasing your poker skills.
URL:https://www.daytonabeachpoker.com/event/400-every-20-minutes/2026-01-21/
CATEGORIES:High Hand Promotion
ATTACH;FMTTYPE=image/jpeg:https://www.daytonabeachpoker.com/wp-content/uploads/2025/06/FL-400Every20Min-Promo.jpg
END:VEVENT
BEGIN:VEVENT
DTSTART;TZID=America/New_York:20260121T191000
DTEND;TZID=America/New_York:20260121T233000
DTSTAMP:20260424T062348
CREATED:20250620T175900Z
LAST-MODIFIED:20260420T142849Z
UID:10000598-1769022600-1769038200@www.daytonabeachpoker.com
SUMMARY:$100 Double Stack Turbo
DESCRIPTION:Wednesdays* | 7:10pm\n*Excluding April 15 & 22\n\n\n$100 Buy-in = $75 prize pool + $15 administrative fee + $10 staff gratuity\nOption 2: $100 Buy-in = $75 Prize pool + $25 administrative fee.\n20\,000 Tournament Chips\n15-Minute Levels\n\nTournament Structure (pdf)
URL:https://www.daytonabeachpoker.com/event/100-double-stack-turbo/2026-01-21/
CATEGORIES:Poker Tournament
ATTACH;FMTTYPE=image/jpeg:https://www.daytonabeachpoker.com/wp-content/uploads/2025/06/DB-Double-Stack-Turbo-GAPT-promo.jpg
END:VEVENT
END:VCALENDAR